Workbook
Name additional_provider: 'Additional Provider'!$B$23:$R$37
Name BillType: [1]Crossreference!$BF$2:$BF$3
Name BillType: Crossreference!$BF$2:$BF$3
Name CXArray: [1]Crossreference!$B$2:$BD$55
Name CXArray: Crossreference!$B$2:$BD$55
Name CXNumber: [1]Crossreference!$A$2:$A$55
Name CXNumber: Crossreference!$A$2:$A$55
Name CXState: [1]Crossreference!$B$1:$BD$1
Name CXState: Crossreference!$B$1:$BD$1
Name lstToDoHighlights: #REF!
Name National: #REF!
Name ParStatus: [1]Crossreference!$BH$2:$BH$4
Name ParStatus: Crossreference!$BH$2:$BH$6
Name RHINSTTable: 'Relay INST 10.12.2023'!$1:$1048576
Name RHTABLE: '[1]Relay Sept 2015'!$A$2:$L$5312
Name RHTABLE: 'Relay 01.02.2024'!$A$2:$L$14627
Name Tabledata: #REF!
Name Tabledata: #REF!
Name Tabledata: #REF!
Name Top40Unique: '[1]AMD Top 40 Unique'!$A$1:$O$2089
Name Top40Unique: 'AMD Top 40 Unique'!$A$1:$P$2089
Name valHEnd: #REF!
Name valHStart: #REF!
Name YesNo: [1]Crossreference!$BG$2:$BG$3
Name YesNo: Crossreference!$BG$2:$BG$3

Sheet Instructions
A1: Welcome!
A3: We're excited to welcome you to AdvancedMD! The Professional Services team is anxious to have everything ready for you as quickly as possible! We need to gather some additional information that will help clear up questions we may need to answer later. Sending this information over quickly will result in a more efficient set up of your system. If you have any questions about these requests please let us know.
A7: One of the most important things that will be completed during our time together is EDI Agreements for electronic Claim submission and ERAs. To ensure accuracy and to avoid any delays with submitting claims or receiving payment we ask for a copy of your Welcome Letter, or an EOB or ERA from your most billed carriers. To be compliant with HIPAA and protecting PHI the patient information can and should be blocked out prior to uploading these documents. The link to securely send us those documents was included in the main email you have already received.
A12: We've separated out the information we need into multiple tabs across the bottom of this document. We've color coded those tabs for convenience. From this tab please go to the Green tab labeled "Group and Provider Info". Please include the associated Address, NPIs, Tax ID, and contact information for your Practice, Group(s) and Provider(s).
A15: Next go to the Blue tab labeled "Carriers". This tab includes carriers we've identified for your state and nationally. Next to each carrier please identify if you are currently credentialed, pending credentialing, planning on credentialing or not participating with that carrier. If you are credentialed with a carrier please let us know if it as a Group or Provider. This information can also be found on your welcome letter from the carrier or an EOB/ERA.
A19: If we do not have a carrier you bill listed on the Blue tab you can add it to the Red tab labeled "Additional Carriers". We'll make sure these carriers are set up in your software and ready to use. We ask for the same information (credentialing status etc) and ask for the mailing address you use for paper claims.
A23: Your Implementation Consultant will review all of this with you and be able to make any changes as needed.

Sheet Group and Provider Info
B1: Practice, Group and Provider Information
B3: Practice | E3: Practice EDI Contact
B4: Practice Name | C4: Capital Chiropractic and Pain | E4: Please identify the contact in your office for EDI Agreements
B5: Practice Street Address | C5: Office Suite | E5: Name
B6: City | C6: Detroit | E6: Title
B7: State | C7: Michigan | E7: Email
B8: Zip (9-digit) | E8: Phone
B9: Pay to Address (if different than above) | E9: Fax
B10: City, St Zip (9-digit) | E10: eClaims Activation Date
B11: Phone # | E11: ERA Activation Date
B12: Fax # | E12: Previous Clearinghouse
B13: Tax ID | E13: Set-up EDI Agreements | F13: Yes
B14: Authorized Signee for Practice | E14: Add'l state credentialed in? | F14: Click Here
B15: Click here to open the NPPES website to look up your taxonomy code
B17: Groups
B18: Name | C18: Address | D18: Zip | E18: City, ST | F18: Tax ID | G18: CLIA | H18: Taxonomy | I18: NPI
B26: Providers | J26: *Required if EPCS is purchased | L26: Does this Provider need EPCS?
B27: Name & Title (ex: John Doe, MD) | C27: Address | D27: Zip | E27: City, ST | F27: Tax ID | G27: CLIA | H27: Taxonomy | I27: NPI | J27: DEA* | K27: Prescribing Email*
B53: 10.2024

Sheet Carriers
A1: State: | C1: ='Group and Provider Info'!C7 -> Michigan | H1: ='Group and Provider Info'!F14 -> Click Here | I1: =15-COUNTIF(H30:H44,"Error") -> 15
A3: AdvancedMD has identied the top carriers for the state you selected on the previous page. Your office key will be setup with the following carriers. On any carrier you bill please indicate your credentialing status with that carrier and if you are credentialed as a group or a provider. If you would like additional carriers setup outside of this list, please fill out the "Additional Carriers" tab. Please attach copies of Welcome Letters or EOBs with this form.
A4: Please complete the 4 columns that are indicated as Client Information. Each column can be hovered over to review a definition of what information should be provided. If you have any questions about how to complete this sheet, please contact your sales representative.
A6: Internal Use | B6: Client Information | H6: Carrier Information | J6: ChangeHealthcare information
A7: Setup EDI Agreements | B7: Credentialing Status | C7: Bill as Group or Provider | D7: Group/Provider IDs | E7: Top Carrier | H7: Carrier Name | I7: Payer ID | J7: CPID | K7: Connections Available | P7: Agreement(s) Required
K8: Claims | L8: Remittance | M8: Eligibility | N8: Claim Status | O8: Attachment
H9: National Carriers
H10: AARP | I10: =VLOOKUP(J10,RHTABLE,3,FALSE) -> 36273 | J10: 5271 | K10: =IFERROR(IF(OR(VLOOKUP(J10,RHTABLE,8,FALSE)="Yes",VLOOKUP(J10,RHTABLE,8,FALSE)="Yes-Agreement"),"Yes","No"),"Error") -> Yes | L10: =IFERROR(IF(OR(VLOOKUP(J10,RHTABLE,9,FALSE)="Yes",VLOOKUP(J10,RHTABLE,9,FALSE)="Yes-Agreement"),"Yes","No"),"Error") -> Yes | M10: =IFERROR(IF(OR(VLOOKUP(J10,RHTABLE,10,FALSE)="Yes",VLOOKUP(J10,RHTABLE,10,FALSE)="Yes-Agreement"),"Yes","No"),"Error") -> Yes | N10: =IFERROR(IF(OR(VLOOKUP(J10,RHTABLE,11,FALSE)="Yes",VLOOKUP(J10,RHTABLE,11,FALSE)="Yes-Agreement"),"Yes","No"),"Error") -> No | O10: =IFERROR(IF(OR(VLOOKUP(J10,RHTABLE,12,FALSE)="Yes",VLOOKUP(J10,RHTABLE,12,FALSE)="Yes-Agreement"),"Yes","No"),"Error") -> No | P10: =VLOOKUP(J10,RHTABLE,12,FALSE) -> R
H11: AETNA | I11: =VLOOKUP(J11,RHTABLE,3,FALSE) -> 60054 | J11: 6400 | K11: =IFERROR(IF(OR(VLOOKUP(J11,RHTABLE,8,FALSE)="Yes",VLOOKUP(J11,RHTABLE,8,FALSE)="Yes-Agreement"),"Yes","No"),"Error") -> Yes | L11: =IFERROR(IF(OR(VLOOKUP(J11,RHTABLE,9,FALSE)="Yes",VLOOKUP(J11,RHTABLE,9,FALSE)="Yes-Agreement"),"Yes","No"),"Error") -> Yes | M11: =IFERROR(IF(OR(VLOOKUP(J11,RHTABLE,10,FALSE)="Yes",VLOOKUP(J11,RHTABLE,10,FALSE)="Yes-Agreement"),"Yes","No"),"Error") -> Yes | N11: =IFERROR(IF(OR(VLOOKUP(J11,RHTABLE,11,FALSE)="Yes",VLOOKUP(J11,RHTABLE,11,FALSE)="Yes-Agreement"),"Yes","No"),"Error") -> Yes | O11: =IFERROR(IF(OR(VLOOKUP(J11,RHTABLE,12,FALSE)="Yes",VLOOKUP(J11,RHTABLE,12,FALSE)="Yes-Agreement"),"Yes","No"),"Error") -> No | P11: =VLOOKUP(J11,RHTABLE,12,FALSE) -> R
H12: AMERICAN SPECIALTY HEALTH | I12: =VLOOKUP(J12,RHTABLE,3,FALSE) -> 43146 | J12: 4875 | K12: =IFERROR(IF(OR(VLOOKUP(J12,RHTABLE,8,FALSE)="Yes",VLOOKUP(J12,RHTABLE,8,FALSE)="Yes-Agreement"),"Yes","No"),"Error") -> Yes | L12: =IFERROR(IF(OR(VLOOKUP(J12,RHTABLE,9,FALSE)="Yes",VLOOKUP(J12,RHTABLE,9,FALSE)="Yes-Agreement"),"Yes","No"),"Error") -> No | M12: =IFERROR(IF(OR(VLOOKUP(J12,RHTABLE,10,FALSE)="Yes",VLOOKUP(J12,RHTABLE,10,FALSE)="Yes-Agreement"),"Yes","No"),"Error") -> No | N12: =IFERROR(IF(OR(VLOOKUP(J12,RHTABLE,11,FALSE)="Yes",VLOOKUP(J12,RHTABLE,11,FALSE)="Yes-Agreement"),"Yes","No"),"Error") -> No | O12: =IFERROR(IF(OR(VLOOKUP(J12,RHTABLE,12,FALSE)="Yes",VLOOKUP(J12,RHTABLE,12,FALSE)="Yes-Agreement"),"Yes","No"),"Error") -> No | P12: =VLOOKUP(J12,RHTABLE,12,FALSE) -> R
H13: AMERIGROUP CORPORATION | I13: =VLOOKUP(J13,RHTABLE,3,FALSE) -> 26375 | J13: 1741 | K13: =IFERROR(IF(OR(VLOOKUP(J13,RHTABLE,8,FALSE)="Yes",VLOOKUP(J13,RHTABLE,8,FALSE)="Yes-Agreement"),"Yes","No"),"Error") -> Yes | L13: =IFERROR(IF(OR(VLOOKUP(J13,RHTABLE,9,FALSE)="Yes",VLOOKUP(J13,RHTABLE,9,FALSE)="Yes-Agreement"),"Yes","No"),"Error") -> Yes | M13: =IFERROR(IF(OR(VLOOKUP(J13,RHTABLE,10,FALSE)="Yes",VLOOKUP(J13,RHTABLE,10,FALSE)="Yes-Agreement"),"Yes","No"),"Error") -> Yes | N13: =IFERROR(IF(OR(VLOOKUP(J13,RHTABLE,11,FALSE)="Yes",VLOOKUP(J13,RHTABLE,11,FALSE)="Yes-Agreement"),"Yes","No"),"Error") -> Yes | O13: =IFERROR(IF(OR(VLOOKUP(J13,RHTABLE,12,FALSE)="Yes",VLOOKUP(J13,RHTABLE,12,FALSE)="Yes-Agreement"),"Yes","No"),"Error") -> No | P13: =VLOOKUP(J13,RHTABLE,12,FALSE) -> R
H14: ANTHEM BLUE CROSS | I14: =VLOOKUP(J14,RHTABLE,3,FALSE) -> 47198 | J14: 4417 | K14: =IFERROR(IF(OR(VLOOKUP(J14,RHTABLE,8,FALSE)="Yes",VLOOKUP(J14,RHTABLE,8,FALSE)="Yes-Agreement"),"Yes","No"),"Error") -> Yes | L14: =IFERROR(IF(OR(VLOOKUP(J14,RHTABLE,9,FALSE)="Yes",VLOOKUP(J14,RHTABLE,9,FALSE)="Yes-Agreement"),"Yes","No"),"Error") -> Yes | M14: =IFERROR(IF(OR(VLOOKUP(J14,RHTABLE,10,FALSE)="Yes",VLOOKUP(J14,RHTABLE,10,FALSE)="Yes-Agreement"),"Yes","No"),"Error") -> Yes | N14: =IFERROR(IF(OR(VLOOKUP(J14,RHTABLE,11,FALSE)="Yes",VLOOKUP(J14,RHTABLE,11,FALSE)="Yes-Agreement"),"Yes","No"),"Error") -> Yes | O14: =IFERROR(IF(OR(VLOOKUP(J14,RHTABLE,12,FALSE)="Yes",VLOOKUP(J14,RHTABLE,12,FALSE)="Yes-Agreement"),"Yes","No"),"Error") -> No | P14: =VLOOKUP(J14,RHTABLE,12,FALSE) -> R
H15: CHAMPVA | I15: =VLOOKUP(J15,RHTABLE,3,FALSE) -> 84146 | J15: 3807 | K15: =IFERROR(IF(OR(VLOOKUP(J15,RHTABLE,8,FALSE)="Yes",VLOOKUP(J15,RHTABLE,8,FALSE)="Yes-Agreement"),"Yes","No"),"Error") -> Yes | L15: =IFERROR(IF(OR(VLOOKUP(J15,RHTABLE,9,FALSE)="Yes",VLOOKUP(J15,RHTABLE,9,FALSE)="Yes-Agreement"),"Yes","No"),"Error") -> Yes | M15: =IFERROR(IF(OR(VLOOKUP(J15,RHTABLE,10,FALSE)="Yes",VLOOKUP(J15,RHTABLE,10,FALSE)="Yes-Agreement"),"Yes","No"),"Error") -> Yes | N15: =IFERROR(IF(OR(VLOOKUP(J15,RHTABLE,11,FALSE)="Yes",VLOOKUP(J15,RHTABLE,11,FALSE)="Yes-Agreement"),"Yes","No"),"Error") -> Yes | O15: =IFERROR(IF(OR(VLOOKUP(J15,RHTABLE,12,FALSE)="Yes",VLOOKUP(J15,RHTABLE,12,FALSE)="Yes-Agreement"),"Yes","No"),"Error") -> No | P15: =VLOOKUP(J15,RHTABLE,12,FALSE) -> R
H16: CIGNA | I16: =VLOOKUP(J16,RHTABLE,3,FALSE) -> 62308 | J16: 6405 | K16: =IFERROR(IF(OR(VLOOKUP(J16,RHTABLE,8,FALSE)="Yes",VLOOKUP(J16,RHTABLE,8,FALSE)="Yes-Agreement"),"Yes","No"),"Error") -> Yes | L16: =IFERROR(IF(OR(VLOOKUP(J16,RHTABLE,9,FALSE)="Yes",VLOOKUP(J16,RHTABLE,9,FALSE)="Yes-Agreement"),"Yes","No"),"Error") -> Yes | M16: =IFERROR(IF(OR(VLOOKUP(J16,RHTABLE,10,FALSE)="Yes",VLOOKUP(J16,RHTABLE,10,FALSE)="Yes-Agreement"),"Yes","No"),"Error") -> Yes | N16: =IFERROR(IF(OR(VLOOKUP(J16,RHTABLE,11,FALSE)="Yes",VLOOKUP(J16,RHTABLE,11,FALSE)="Yes-Agreement"),"Yes","No"),"Error") -> No | O16: =IFERROR(IF(OR(VLOOKUP(J16,RHTABLE,12,FALSE)="Yes",VLOOKUP(J16,RHTABLE,12,FALSE)="Yes-Agreement"),"Yes","No"),"Error") -> No | P16: =VLOOKUP(J16,RHTABLE,12,FALSE) -> R
H17: CIGNA SELECT | I17: =VLOOKUP(J17,RHTABLE,3,FALSE) -> 62308 | J17: 6408 | K17: =IFERROR(IF(OR(VLOOKUP(J17,RHTABLE,8,FALSE)="Yes",VLOOKUP(J17,RHTABLE,8,FALSE)="Yes-Agreement"),"Yes","No"),"Error") -> Yes | L17: =IFERROR(IF(OR(VLOOKUP(J17,RHTABLE,9,FALSE)="Yes",VLOOKUP(J17,RHTABLE,9,FALSE)="Yes-Agreement"),"Yes","No"),"Error") -> Yes | M17: =IFERROR(IF(OR(VLOOKUP(J17,RHTABLE,10,FALSE)="Yes",VLOOKUP(J17,RHTABLE,10,FALSE)="Yes-Agreement"),"Yes","No"),"Error") -> No | N17: =IFERROR(IF(OR(VLOOKUP(J17,RHTABLE,11,FALSE)="Yes",VLOOKUP(J17,RHTABLE,11,FALSE)="Yes-Agreement"),"Yes","No"),"Error") -> No | O17: =IFERROR(IF(OR(VLOOKUP(J17,RHTABLE,12,FALSE)="Yes",VLOOKUP(J17,RHTABLE,12,FALSE)="Yes-Agreement"),"Yes","No"),"Error") -> No | P17: =VLOOKUP(J17,RHTABLE,12,FALSE) -> R
H18: GEHA | I18: =VLOOKUP(J18,RHTABLE,3,FALSE) -> 44054 | J18: 6467 | K18: =IFERROR(IF(OR(VLOOKUP(J18,RHTABLE,8,FALSE)="Yes",VLOOKUP(J18,RHTABLE,8,FALSE)="Yes-Agreement"),"Yes","No"),"Error") -> Yes | L18: =IFERROR(IF(OR(VLOOKUP(J18,RHTABLE,9,FALSE)="Yes",VLOOKUP(J18,RHTABLE,9,FALSE)="Yes-Agreement"),"Yes","No"),"Error") -> Yes | M18: =IFERROR(IF(OR(VLOOKUP(J18,RHTABLE,10,FALSE)="Yes",VLOOKUP(J18,RHTABLE,10,FALSE)="Yes-Agreement"),"Yes","No"),"Error") -> Yes | N18: =IFERROR(IF(OR(VLOOKUP(J18,RHTABLE,11,FALSE)="Yes",VLOOKUP(J18,RHTABLE,11,FALSE)="Yes-Agreement"),"Yes","No"),"Error") -> No | O18: =IFERROR(IF(OR(VLOOKUP(J18,RHTABLE,12,FALSE)="Yes",VLOOKUP(J18,RHTABLE,12,FALSE)="Yes-Agreement"),"Yes","No"),"Error") -> No | P18: =VLOOKUP(J18,RHTABLE,12,FALSE) -> R
H19: GOLDEN RULE | I19: =VLOOKUP(J19,RHTABLE,3,FALSE) -> 37602 | J19: 6483 | K19: =IFERROR(IF(OR(VLOOKUP(J19,RHTABLE,8,FALSE)="Yes",VLOOKUP(J19,RHTABLE,8,FALSE)="Yes-Agreement"),"Yes","No"),"Error") -> Yes | L19: =IFERROR(IF(OR(VLOOKUP(J19,RHTABLE,9,FALSE)="Yes",VLOOKUP(J19,RHTABLE,9,FALSE)="Yes-Agreement"),"Yes","No"),"Error") -> Yes | M19: =IFERROR(IF(OR(VLOOKUP(J19,RHTABLE,10,FALSE)="Yes",VLOOKUP(J19,RHTABLE,10,FALSE)="Yes-Agreement"),"Yes","No"),"Error") -> Yes | N19: =IFERROR(IF(OR(VLOOKUP(J19,RHTABLE,11,FALSE)="Yes",VLOOKUP(J19,RHTABLE,11,FALSE)="Yes-Agreement"),"Yes","No"),"Error") -> No | O19: =IFERROR(IF(OR(VLOOKUP(J19,RHTABLE,12,FALSE)="Yes",VLOOKUP(J19,RHTABLE,12,FALSE)="Yes-Agreement"),"Yes","No"),"Error") -> No | P19: =VLOOKUP(J19,RHTABLE,12,FALSE) -> R
H20: HUMANA | I20: =VLOOKUP(J20,RHTABLE,3,FALSE) -> 61101 | J20: 2449 | K20: =IFERROR(IF(OR(VLOOKUP(J20,RHTABLE,8,FALSE)="Yes",VLOOKUP(J20,RHTABLE,8,FALSE)="Yes-Agreement"),"Yes","No"),"Error") -> Yes | L20: =IFERROR(IF(OR(VLOOKUP(J20,RHTABLE,9,FALSE)="Yes",VLOOKUP(J20,RHTABLE,9,FALSE)="Yes-Agreement"),"Yes","No"),"Error") -> Yes | M20: =IFERROR(IF(OR(VLOOKUP(J20,RHTABLE,10,FALSE)="Yes",VLOOKUP(J20,RHTABLE,10,FALSE)="Yes-Agreement"),"Yes","No"),"Error") -> Yes | N20: =IFERROR(IF(OR(VLOOKUP(J20,RHTABLE,11,FALSE)="Yes",VLOOKUP(J20,RHTABLE,11,FALSE)="Yes-Agreement"),"Yes","No"),"Error") -> No | O20: =IFERROR(IF(OR(VLOOKUP(J20,RHTABLE,12,FALSE)="Yes",VLOOKUP(J20,RHTABLE,12,FALSE)="Yes-Agreement"),"Yes","No"),"Error") -> No | P20: =VLOOKUP(J20,RHTABLE,12,FALSE) -> R
H21: MERITAIN HEALTH | I21: =VLOOKUP(J21,RHTABLE,3,FALSE) -> 41124 | J21: 1708 | K21: =IFERROR(IF(OR(VLOOKUP(J21,RHTABLE,8,FALSE)="Yes",VLOOKUP(J21,RHTABLE,8,FALSE)="Yes-Agreement"),"Yes","No"),"Error") -> Yes | L21: =IFERROR(IF(OR(VLOOKUP(J21,RHTABLE,9,FALSE)="Yes",VLOOKUP(J21,RHTABLE,9,FALSE)="Yes-Agreement"),"Yes","No"),"Error") -> Yes | M21: =IFERROR(IF(OR(VLOOKUP(J21,RHTABLE,10,FALSE)="Yes",VLOOKUP(J21,RHTABLE,10,FALSE)="Yes-Agreement"),"Yes","No"),"Error") -> Yes | N21: =IFERROR(IF(OR(VLOOKUP(J21,RHTABLE,11,FALSE)="Yes",VLOOKUP(J21,RHTABLE,11,FALSE)="Yes-Agreement"),"Yes","No"),"Error") -> No | O21: =IFERROR(IF(OR(VLOOKUP(J21,RHTABLE,12,FALSE)="Yes",VLOOKUP(J21,RHTABLE,12,FALSE)="Yes-Agreement"),"Yes","No"),"Error") -> No | P21: =VLOOKUP(J21,RHTABLE,12,FALSE) -> R
... H27: WELLCARE | I27: =VLOOKUP(J27,RHTABLE,3,FALSE) -> 14163 | J27: 1844 | K27: =IFERROR(IF(OR(VLOOKUP(J27,RHTABLE,8,FALSE)="Yes",VLOOKUP(J27,RHTABLE,8,FALSE)="Yes-Agreement"),"Yes","No"),"Error") -> Yes | L27: =IFERROR(IF(OR(VLOOKUP(J27,RHTABLE,9,FALSE)="Yes",VLOOKUP(J27,RHTABLE,9,FALSE)="Yes-Agreement"),"Yes","No"),"Error") -> Yes | M27: =IFERROR(IF(OR(VLOOKUP(J27,RHTABLE,10,FALSE)="Yes",VLOOKUP(J27,RHTABLE,10,FALSE)="Yes-Agreement"),"Yes","No"),"Error") -> Yes | N27: =IFERROR(IF(OR(VLOOKUP(J27,RHTABLE,11,FALSE)="Yes",VLOOKUP(J27,RHTABLE,11,FALSE)="Yes-Agreement"),"Yes","No"),"Error") -> Yes | O27: =IFERROR(IF(OR(VLOOKUP(J27,RHTABLE,12,FALSE)="Yes",VLOOKUP(J27,RHTABLE,12,FALSE)="Yes-Agreement"),"Yes","No"),"Error") -> No | P27: =VLOOKUP(J27,RHTABLE,12,FALSE) -> R
H29: =IF(C1="Click Here","",C1&" "&"Carriers") -> Michigan Carriers
G30: 1 | H30: =IFERROR(VLOOKUP(INDEX(CXArray,MATCH(G30,CXNumber,0),MATCH($C$1,[0]!CXState,0)),Top40Unique,4,FALSE),"Error") -> BLUE CARE NETWORK HMO | I30: =IFERROR(VLOOKUP(INDEX(CXArray,MATCH(G30,CXNumber,0),MATCH($C$1,CXState,0)),Top40Unique,6,FALSE),1) -> 710 | J30: =IFERROR(VLOOKUP(INDEX(CXArray,MATCH(G30,CXNumber,0),MATCH($C$1,CXState,0)),Top40Unique,3,FALSE),1) -> 2426 | K30: =IFERROR(IF(OR(VLOOKUP(J30,RHTABLE,8,FALSE)="Yes",VLOOKUP(J30,RHTABLE,8,FALSE)="Yes-Agreement"),"Yes","No"),"Error") -> Yes | L30: =IFERROR(IF(OR(VLOOKUP(J30,RHTABLE,9,FALSE)="Yes",VLOOKUP(J30,RHTABLE,9,FALSE)="Yes-Agreement"),"Yes","No"),"Error") -> Yes | M30: =IFERROR(IF(OR(VLOOKUP(J30,RHTABLE,10,FALSE)="Yes",VLOOKUP(J30,RHTABLE,10,FALSE)="Yes-Agreement"),"Yes","No"),"Error") -> Yes | N30: =IFERROR(IF(OR(VLOOKUP(J30,RHTABLE,11,FALSE)="Yes",VLOOKUP(J30,RHTABLE,11,FALSE)="Yes-Agreement"),"Yes","No"),"Error") -> No | O30: =IFERROR(IF(OR(VLOOKUP(J30,RHTABLE,12,FALSE)="Yes",VLOOKUP(J30,RHTABLE,12,FALSE)="Yes-Agreement"),"Yes","No"),"Error") -> No | P30: =VLOOKUP(J30,RHTABLE,12,FALSE) -> R
G31: =IF(H30<>0,G30+1,IF(G30>G29,1,0)) -> 2 | H31: =IFERROR(VLOOKUP(INDEX(CXArray,MATCH(G31,CXNumber,0),MATCH($C$1,CXState,0)),Top40Unique,4,FALSE),"Error") -> HEALTH ALLIANCE PLAN | I31: =IFERROR(VLOOKUP(INDEX(CXArray,MATCH(G31,CXNumber,0),MATCH($C$1,CXState,0)),Top40Unique,6,FALSE),1) -> 382242827 | J31: =IFERROR(VLOOKUP(INDEX(CXArray,MATCH(G31,CXNumber,0),MATCH($C$1,CXState,0)),Top40Unique,3,FALSE),1) -> 6466 | K31: =IFERROR(IF(OR(VLOOKUP(J31,RHTABLE,8,FALSE)="Yes",VLOOKUP(J31,RHTABLE,8,FALSE)="Yes-Agreement"),"Yes","No"),"Error") -> Yes | L31: =IFERROR(IF(OR(VLOOKUP(J31,RHTABLE,9,FALSE)="Yes",VLOOKUP(J31,RHTABLE,9,FALSE)="Yes-Agreement"),"Yes","No"),"Error") -> Yes | M31: =IFERROR(IF(OR(VLOOKUP(J31,RHTABLE,10,FALSE)="Yes",VLOOKUP(J31,RHTABLE,10,FALSE)="Yes-Agreement"),"Yes","No"),"Error") -> Yes | N31: =IFERROR(IF(OR(VLOOKUP(J31,RHTABLE,11,FALSE)="Yes",VLOOKUP(J31,RHTABLE,11,FALSE)="Yes-Agreement"),"Yes","No"),"Error") -> No | O31: =IFERROR(IF(OR(VLOOKUP(J31,RHTABLE,12,FALSE)="Yes",VLOOKUP(J31,RHTABLE,12,FALSE)="Yes-Agreement"),"Yes","No"),"Error") -> No | P31: =VLOOKUP(J31,RHTABLE,12,FALSE) -> R
G32: =IF(H31<>"Error",G31+1,IF(G31>G30,1,0)) -> 3 | H32: =IFERROR(VLOOKUP(INDEX(CXArray,MATCH(G32,CXNumber,0),MATCH($C$1,CXState,0)),Top40Unique,4,FALSE),"Error") -> HEALTH PLAN OF MICHIGAN | I32: =IFERROR(VLOOKUP(INDEX(CXArray,MATCH(G32,CXNumber,0),MATCH($C$1,CXState,0)),Top40Unique,6,FALSE),1) -> 52563 | J32: =IFERROR(VLOOKUP(INDEX(CXArray,MATCH(G32,CXNumber,0),MATCH($C$1,CXState,0)),Top40Unique,3,FALSE),1) -> 2262 | K32: =IFERROR(IF(OR(VLOOKUP(J32,RHTABLE,8,FALSE)="Yes",VLOOKUP(J32,RHTABLE,8,FALSE)="Yes-Agreement"),"Yes","No"),"Error") -> Yes | L32: =IFERROR(IF(OR(VLOOKUP(J32,RHTABLE,9,FALSE)="Yes",VLOOKUP(J32,RHTABLE,9,FALSE)="Yes-Agreement"),"Yes","No"),"Error") -> No | M32: =IFERROR(IF(OR(VLOOKUP(J32,RHTABLE,10,FALSE)="Yes",VLOOKUP(J32,RHTABLE,10,FALSE)="Yes-Agreement"),"Yes","No"),"Error") -> Yes | N32: =IFERROR(IF(OR(VLOOKUP(J32,RHTABLE,11,FALSE)="Yes",VLOOKUP(J32,RHTABLE,11,FALSE)="Yes-Agreement"),"Yes","No"),"Error") -> No | O32: =IFERROR(IF(OR(VLOOKUP(J32,RHTABLE,12,FALSE)="Yes",VLOOKUP(J32,RHTABLE,12,FALSE)="Yes-Agreement"),"Yes","No"),"Error") -> No | P32: =VLOOKUP(J32,RHTABLE,12,FALSE) -> R
G33: =IF(H32<>"Error",G32+1,IF(G32>G31,1,0)) -> 4 | H33: =IFERROR(VLOOKUP(INDEX(CXArray,MATCH(G33,CXNumber,0),MATCH($C$1,CXState,0)),Top40Unique,4,FALSE),"Error") -> MEDICARE PLUS BLUE | I33: =IFERROR(VLOOKUP(INDEX(CXArray,MATCH(G33,CXNumber,0),MATCH($C$1,CXState,0)),Top40Unique,6,FALSE),1) -> 710 | J33: =IFERROR(VLOOKUP(INDEX(CXArray,MATCH(G33,CXNumber,0),MATCH($C$1,CXState,0)),Top40Unique,3,FALSE),1) -> 2287 | K33: =IFERROR(IF(OR(VLOOKUP(J33,RHTABLE,8,FALSE)="Yes",VLOOKUP(J33,RHTABLE,8,FALSE)="Yes-Agreement"),"Yes","No"),"Error") -> Yes | L33: =IFERROR(IF(OR(VLOOKUP(J33,RHTABLE,9,FALSE)="Yes",VLOOKUP(J33,RHTABLE,9,FALSE)="Yes-Agreement"),"Yes","No"),"Error") -> Yes | M33: =IFERROR(IF(OR(VLOOKUP(J33,RHTABLE,10,FALSE)="Yes",VLOOKUP(J33,RHTABLE,10,FALSE)="Yes-Agreement"),"Yes","No"),"Error") -> Yes | N33: =IFERROR(IF(OR(VLOOKUP(J33,RHTABLE,11,FALSE)="Yes",VLOOKUP(J33,RHTABLE,11,FALSE)="Yes-Agreement"),"Yes","No"),"Error") -> No | O33: =IFERROR(IF(OR(VLOOKUP(J33,RHTABLE,12,FALSE)="Yes",VLOOKUP(J33,RHTABLE,12,FALSE)="Yes-Agreement"),"Yes","No"),"Error") -> No | P33: =VLOOKUP(J33,RHTABLE,12,FALSE) -> R
G34: =IF(H33<>"Error",G33+1,IF(G33>G32,1,0)) -> 5 | H34: =IFERROR(VLOOKUP(INDEX(CXArray,MATCH(G34,CXNumber,0),MATCH($C$1,CXState,0)),Top40Unique,4,FALSE),"Error") -> MERIDIAN HEALTH PLAN | I34: =IFERROR(VLOOKUP(INDEX(CXArray,MATCH(G34,CXNumber,0),MATCH($C$1,CXState,0)),Top40Unique,6,FALSE),1) -> 13189 | J34: =IFERROR(VLOOKUP(INDEX(CXArray,MATCH(G34,CXNumber,0),MATCH($C$1,CXState,0)),Top40Unique,3,FALSE),1) -> 4777 | K34: =IFERROR(IF(OR(VLOOKUP(J34,RHTABLE,8,FALSE)="Yes",VLOOKUP(J34,RHTABLE,8,FALSE)="Yes-Agreement"),"Yes","No"),"Error") -> Yes | L34: =IFERROR(IF(OR(VLOOKUP(J34,RHTABLE,9,FALSE)="Yes",VLOOKUP(J34,RHTABLE,9,FALSE)="Yes-Agreement"),"Yes","No"),"Error") -> Yes | M34: =IFERROR(IF(OR(VLOOKUP(J34,RHTABLE,10,FALSE)="Yes",VLOOKUP(J34,RHTABLE,10,FALSE)="Yes-Agreement"),"Yes","No"),"Error") -> No | N34: =IFERROR(IF(OR(VLOOKUP(J34,RHTABLE,11,FALSE)="Yes",VLOOKUP(J34,RHTABLE,11,FALSE)="Yes-Agreement"),"Yes","No"),"Error") -> No | O34: =IFERROR(IF(OR(VLOOKUP(J34,RHTABLE,12,FALSE)="Yes",VLOOKUP(J34,RHTABLE,12,FALSE)="Yes-Agreement"),"Yes","No"),"Error") -> No | P34: =VLOOKUP(J34,RHTABLE,12,FALSE) -> R
G35: =IF(H34<>"Error",G34+1,IF(G34>G33,1,0)) -> 6 | H35: =IFERROR(VLOOKUP(INDEX(CXArray,MATCH(G35,CXNumber,0),MATCH($C$1,CXState,0)),Top40Unique,4,FALSE),"Error") -> MICHIGAN BLUE SHIELD | I35: =IFERROR(VLOOKUP(INDEX(CXArray,MATCH(G35,CXNumber,0),MATCH($C$1,CXState,0)),Top40Unique,6,FALSE),1) -> 710 | J35: =IFERROR(VLOOKUP(INDEX(CXArray,MATCH(G35,CXNumber,0),MATCH($C$1,CXState,0)),Top40Unique,3,FALSE),1) -> 1421 | K35: =IFERROR(IF(OR(VLOOKUP(J35,RHTABLE,8,FALSE)="Yes",VLOOKUP(J35,RHTABLE,8,FALSE)="Yes-Agreement"),"Yes","No"),"Error") -> Yes | L35: =IFERROR(IF(OR(VLOOKUP(J35,RHTABLE,9,FALSE)="Yes",VLOOKUP(J35,RHTABLE,9,FALSE)="Yes-Agreement"),"Yes","No"),"Error") -> Yes | M35: =IFERROR(IF(OR(VLOOKUP(J35,RHTABLE,10,FALSE)="Yes",VLOOKUP(J35,RHTABLE,10,FALSE)="Yes-Agreement"),"Yes","No"),"Error") -> Yes | N35: =IFERROR(IF(OR(VLOOKUP(J35,RHTABLE,11,FALSE)="Yes",VLOOKUP(J35,RHTABLE,11,FALSE)="Yes-Agreement"),"Yes","No"),"Error") -> No | O35: =IFERROR(IF(OR(VLOOKUP(J35,RHTABLE,12,FALSE)="Yes",VLOOKUP(J35,RHTABLE,12,FALSE)="Yes-Agreement"),"Yes","No"),"Error") -> No | P35: =VLOOKUP(J35,RHTABLE,12,FALSE) -> R
G36: =IF(H35<>"Error",G35+1,IF(G35>G34,1,0)) -> 7 | H36: =IFERROR(VLOOKUP(INDEX(CXArray,MATCH(G36,CXNumber,0),MATCH($C$1,CXState,0)),Top40Unique,4,FALSE),"Error") -> MICHIGAN MEDICAID | I36: =IFERROR(VLOOKUP(INDEX(CXArray,MATCH(G36,CXNumber,0),MATCH($C$1,CXState,0)),Top40Unique,6,FALSE),1) -> D00111 | J36: =IFERROR(VLOOKUP(INDEX(CXArray,MATCH(G36,CXNumber,0),MATCH($C$1,CXState,0)),Top40Unique,3,FALSE),1) -> 2480 | K36: =IFERROR(IF(OR(VLOOKUP(J36,RHTABLE,8,FALSE)="Yes",VLOOKUP(J36,RHTABLE,8,FALSE)="Yes-Agreement"),"Yes","No"),"Error") -> Yes | L36: =IFERROR(IF(OR(VLOOKUP(J36,RHTABLE,9,FALSE)="Yes",VLOOKUP(J36,RHTABLE,9,FALSE)="Yes-Agreement"),"Yes","No"),"Error") -> Yes | M36: =IFERROR(IF(OR(VLOOKUP(J36,RHTABLE,10,FALSE)="Yes",VLOOKUP(J36,RHTABLE,10,FALSE)="Yes-Agreement"),"Yes","No"),"Error") -> Yes | N36: =IFERROR(IF(OR(VLOOKUP(J36,RHTABLE,11,FALSE)="Yes",VLOOKUP(J36,RHTABLE,11,FALSE)="Yes-Agreement"),"Yes","No"),"Error") -> No | O36: =IFERROR(IF(OR(VLOOKUP(J36,RHTABLE,12,FALSE)="Yes",VLOOKUP(J36,RHTABLE,12,FALSE)="Yes-Agreement"),"Yes","No"),"Error") -> No | P36: =VLOOKUP(J36,RHTABLE,12,FALSE) -> C,R,E
G37: =IF(H36<>"Error",G36+1,IF(G36>G35,1,0)) -> 8 | H37: =IFERROR(VLOOKUP(INDEX(CXArray,MATCH(G37,CXNumber,0),MATCH($C$1,CXState,0)),Top40Unique,4,FALSE),"Error") -> MICHIGAN MEDICARE | I37: =IFERROR(VLOOKUP(INDEX(CXArray,MATCH(G37,CXNumber,0),MATCH($C$1,CXState,0)),Top40Unique,6,FALSE),1) -> 8202 | J37: =IFERROR(VLOOKUP(INDEX(CXArray,MATCH(G37,CXNumber,0),MATCH($C$1,CXState,0)),Top40Unique,3,FALSE),1) -> 1461 | K37: =IFERROR(IF(OR(VLOOKUP(J37,RHTABLE,8,FALSE)="Yes",VLOOKUP(J37,RHTABLE,8,FALSE)="Yes-Agreement"),"Yes","No"),"Error") -> Yes | L37: =IFERROR(IF(OR(VLOOKUP(J37,RHTABLE,9,FALSE)="Yes",VLOOKUP(J37,RHTABLE,9,FALSE)="Yes-Agreement"),"Yes","No"),"Error") -> Yes | M37: =IFERROR(IF(OR(VLOOKUP(J37,RHTABLE,10,FALSE)="Yes",VLOOKUP(J37,RHTABLE,10,FALSE)="Yes-Agreement"),"Yes","No"),"Error") -> Yes | N37: =IFERROR(IF(OR(VLOOKUP(J37,RHTABLE,11,FALSE)="Yes",VLOOKUP(J37,RHTABLE,11,FALSE)="Yes-Agreement"),"Yes","No"),"Error") -> Yes | O37: =IFERROR(IF(OR(VLOOKUP(J37,RHTABLE,12,FALSE)="Yes",VLOOKUP(J37,RHTABLE,12,FALSE)="Yes-Agreement"),"Yes","No"),"Error") -> No | P37: =VLOOKUP(J37,RHTABLE,12,FALSE) -> C,R,E,CS
G38: =IF(H37<>"Error",G37+1,IF(G37>G36,1,0)) -> 9 | H38: =IFERROR(VLOOKUP(INDEX(CXArray,MATCH(G38,CXNumber,0),MATCH($C$1,CXState,0)),Top40Unique,4,FALSE),"Error") -> MOLINA HEALTHCARE OF MICHIGAN | I38: =IFERROR(VLOOKUP(INDEX(CXArray,MATCH(G38,CXNumber,0),MATCH($C$1,CXState,0)),Top40Unique,6,FALSE),1) -> 38334 | J38: =IFERROR(VLOOKUP(INDEX(CXArray,MATCH(G38,CXNumber,0),MATCH($C$1,CXState,0)),Top40Unique,3,FALSE),1) -> 5443 | K38: =IFERROR(IF(OR(VLOOKUP(J38,RHTABLE,8,FALSE)="Yes",VLOOKUP(J38,RHTABLE,8,FALSE)="Yes-Agreement"),"Yes","No"),"Error") -> Yes | L38: =IFERROR(IF(OR(VLOOKUP(J38,RHTABLE,9,FALSE)="Yes",VLOOKUP(J38,RHTABLE,9,FALSE)="Yes-Agreement"),"Yes","No"),"Error") -> Yes | M38: =IFERROR(IF(OR(VLOOKUP(J38,RHTABLE,10,FALSE)="Yes",VLOOKUP(J38,RHTABLE,10,FALSE)="Yes-Agreement"),"Yes","No"),"Error") -> Yes | N38: =IFERROR(IF(OR(VLOOKUP(J38,RHTABLE,11,FALSE)="Yes",VLOOKUP(J38,RHTABLE,11,FALSE)="Yes-Agreement"),"Yes","No"),"Error") -> No | O38: =IFERROR(IF(OR(VLOOKUP(J38,RHTABLE,12,FALSE)="Yes",VLOOKUP(J38,RHTABLE,12,FALSE)="Yes-Agreement"),"Yes","No"),"Error") -> No | P38: =VLOOKUP(J38,RHTABLE,12,FALSE) -> R
G39: =IF(H38<>"Error",G38+1,IF(G38>G37,1,0)) -> 10 | H39: =IFERROR(VLOOKUP(INDEX(CXArray,MATCH(G39,CXNumber,0),MATCH($C$1,CXState,0)),Top40Unique,4,FALSE),"Error") -> PRIORITY HEALTH OF MICHIGAN | I39: =IFERROR(VLOOKUP(INDEX(CXArray,MATCH(G39,CXNumber,0),MATCH($C$1,CXState,0)),Top40Unique,6,FALSE),1) -> 38217 | J39: =IFERROR(VLOOKUP(INDEX(CXArray,MATCH(G39,CXNumber,0),MATCH($C$1,CXState,0)),Top40Unique,3,FALSE),1) -> 7459 | K39: =IFERROR(IF(OR(VLOOKUP(J39,RHTABLE,8,FALSE)="Yes",VLOOKUP(J39,RHTABLE,8,FALSE)="Yes-Agreement"),"Yes","No"),"Error") -> Yes | L39: =IFERROR(IF(OR(VLOOKUP(J39,RHTABLE,9,FALSE)="Yes",VLOOKUP(J39,RHTABLE,9,FALSE)="Yes-Agreement"),"Yes","No"),"Error") -> Yes | M39: =IFERROR(IF(OR(VLOOKUP(J39,RHTABLE,10,FALSE)="Yes",VLOOKUP(J39,RHTABLE,10,FALSE)="Yes-Agreement"),"Yes","No"),"Error") -> Yes | N39: =IFERROR(IF(OR(VLOOKUP(J39,RHTABLE,11,FALSE)="Yes",VLOOKUP(J39,RHTABLE,11,FALSE)="Yes-Agreement"),"Yes","No"),"Error") -> No | O39: =IFERROR(IF(OR(VLOOKUP(J39,RHTABLE,12,FALSE)="Yes",VLOOKUP(J39,RHTABLE,12,FALSE)="Yes-Agreement"),"Yes","No"),"Error") -> No | P39: =VLOOKUP(J39,RHTABLE,12,FALSE) -> R
G40: =IF(H39<>"Error",G39+1,IF(G39>G38,1,0)) -> 11 | H40: =IFERROR(VLOOKUP(INDEX(CXArray,MATCH(G40,CXNumber,0),MATCH($C$1,CXState,0)),Top40Unique,4,FALSE),"Error") -> TRICARE EAST | I40: =IFERROR(VLOOKUP(INDEX(CXArray,MATCH(G40,CXNumber,0),MATCH($C$1,CXState,0)),Top40Unique,6,FALSE),1) -> TREST | J40: =IFERROR(VLOOKUP(INDEX(CXArray,MATCH(G40,CXNumber,0),MATCH($C$1,CXState,0)),Top40Unique,3,FALSE),1) -> 1253 | K40: =IFERROR(IF(OR(VLOOKUP(J40,RHTABLE,8,FALSE)="Yes",VLOOKUP(J40,RHTABLE,8,FALSE)="Yes-Agreement"),"Yes","No"),"Error") -> Yes | L40: =IFERROR(IF(OR(VLOOKUP(J40,RHTABLE,9,FALSE)="Yes",VLOOKUP(J40,RHTABLE,9,FALSE)="Yes-Agreement"),"Yes","No"),"Error") -> Yes | M40: =IFERROR(IF(OR(VLOOKUP(J40,RHTABLE,10,FALSE)="Yes",VLOOKUP(J40,RHTABLE,10,FALSE)="Yes-Agreement"),"Yes","No"),"Error") -> No | N40: =IFERROR(IF(OR(VLOOKUP(J40,RHTABLE,11,FALSE)="Yes",VLOOKUP(J40,RHTABLE,11,FALSE)="Yes-Agreement"),"Yes","No"),"Error") -> No | O40: =IFERROR(IF(OR(VLOOKUP(J40,RHTABLE,12,FALSE)="Yes",VLOOKUP(J40,RHTABLE,12,FALSE)="Yes-Agreement"),"Yes","No"),"Error") -> No | P40: =VLOOKUP(J40,RHTABLE,12,FALSE) -> C,R
G41: =IF(H40<>"Error",G40+1,IF(G40>G39,1,0)) -> 12 | H41: =IFERROR(VLOOKUP(INDEX(CXArray,MATCH(G41,CXNumber,0),MATCH($C$1,CXState,0)),Top40Unique,4,FALSE),"Error") -> 0 | I41: =IFERROR(VLOOKUP(INDEX(CXArray,MATCH(G41,CXNumber,0),MATCH($C$1,CXState,0)),Top40Unique,6,FALSE),1) -> 1 | J41: =IFERROR(VLOOKUP(INDEX(CXArray,MATCH(G41,CXNumber,0),MATCH($C$1,CXState,0)),Top40Unique,3,FALSE),1) -> 0 | K41: =IFERROR(IF(OR(VLOOKUP(J41,RHTABLE,8,FALSE)="Yes",VLOOKUP(J41,RHTABLE,8,FALSE)="Yes-Agreement"),"Yes","No"),"Error") -> Error | L41: =IFERROR(IF(OR(VLOOKUP(J41,RHTABLE,9,FALSE)="Yes",VLOOKUP(J41,RHTABLE,9,FALSE)="Yes-Agreement"),"Yes","No"),"Error") -> Error | M41: =IFERROR(IF(OR(VLOOKUP(J41,RHTABLE,10,FALSE)="Yes",VLOOKUP(J41,RHTABLE,10,FALSE)="Yes-Agreement"),"Yes","No"),"Error") -> Error | N41: =IFERROR(IF(OR(VLOOKUP(J41,RHTABLE,11,FALSE)="Yes",VLOOKUP(J41,RHTABLE,11,FALSE)="Yes-Agreement"),"Yes","No"),"Error") -> Error | O41: =IFERROR(IF(OR(VLOOKUP(J41,RHTABLE,12,FALSE)="Yes",VLOOKUP(J41,RHTABLE,12,FALSE)="Yes-Agreement"),"Yes","No"),"Error") -> Error | P41: =VLOOKUP(J41,RHTABLE,12,FALSE) -> #N/A
G42: =IF(H41<>"Error",G41+1,IF(G41>G40,1,0)) -> 13 | H42: =IFERROR(VLOOKUP(INDEX(CXArray,MATCH(G42,CXNumber,0),MATCH($C$1,CXState,0)),Top40Unique,4,FALSE),"Error") -> 0 | I42: =IFERROR(VLOOKUP(INDEX(CXArray,MATCH(G42,CXNumber,0),MATCH($C$1,CXState,0)),Top40Unique,6,FALSE),1) -> 1 | J42: =IFERROR(VLOOKUP(INDEX(CXArray,MATCH(G42,CXNumber,0),MATCH($C$1,CXState,0)),Top40Unique,3,FALSE),1) -> 0 | K42: =IFERROR(IF(OR(VLOOKUP(J42,RHTABLE,8,FALSE)="Yes",VLOOKUP(J42,RHTABLE,8,FALSE)="Yes-Agreement"),"Yes","No"),"Error") -> Error | L42: =IFERROR(IF(OR(VLOOKUP(J42,RHTABLE,9,FALSE)="Yes",VLOOKUP(J42,RHTABLE,9,FALSE)="Yes-Agreement"),"Yes","No"),"Error") -> Error | M42: =IFERROR(IF(OR(VLOOKUP(J42,RHTABLE,10,FALSE)="Yes",VLOOKUP(J42,RHTABLE,10,FALSE)="Yes-Agreement"),"Yes","No"),"Error") -> Error | N42: =IFERROR(IF(OR(VLOOKUP(J42,RHTABLE,11,FALSE)="Yes",VLOOKUP(J42,RHTABLE,11,FALSE)="Yes-Agreement"),"Yes","No"),"Error") -> Error | O42: =IFERROR(IF(OR(VLOOKUP(J42,RHTABLE,12,FALSE)="Yes",VLOOKUP(J42,RHTABLE,12,FALSE)="Yes-Agreement"),"Yes","No"),"Error") -> Error | P42: =VLOOKUP(J42,RHTABLE,12,FALSE) -> #N/A
G43: =IF(H42<>"Error",G42+1,IF(G42>G41,1,0)) -> 14 | H43: =IFERROR(VLOOKUP(INDEX(CXArray,MATCH(G43,CXNumber,0),MATCH($C$1,CXState,0)),Top40Unique,4,FALSE),"Error") -> 0 | I43: =IFERROR(VLOOKUP(INDEX(CXArray,MATCH(G43,CXNumber,0),MATCH($C$1,CXState,0)),Top40Unique,6,FALSE),1) -> 1 | J43: =IFERROR(VLOOKUP(INDEX(CXArray,MATCH(G43,CXNumber,0),MATCH($C$1,CXState,0)),Top40Unique,3,FALSE),1) -> 0 | K43: =IFERROR(IF(OR(VLOOKUP(J43,RHTABLE,8,FALSE)="Yes",VLOOKUP(J43,RHTABLE,8,FALSE)="Yes-Agreement"),"Yes","No"),"Error") -> Error | L43: =IFERROR(IF(OR(VLOOKUP(J43,RHTABLE,9,FALSE)="Yes",VLOOKUP(J43,RHTABLE,9,FALSE)="Yes-Agreement"),"Yes","No"),"Error") -> Error | M43: =IFERROR(IF(OR(VLOOKUP(J43,RHTABLE,10,FALSE)="Yes",VLOOKUP(J43,RHTABLE,10,FALSE)="Yes-Agreement"),"Yes","No"),"Error") -> Error | N43: =IFERROR(IF(OR(VLOOKUP(J43,RHTABLE,11,FALSE)="Yes",VLOOKUP(J43,RHTABLE,11,FALSE)="Yes-Agreement"),"Yes","No"),"Error") -> Error | O43: =IFERROR(IF(OR(VLOOKUP(J43,RHTABLE,12,FALSE)="Yes",VLOOKUP(J43,RHTABLE,12,FALSE)="Yes-Agreement"),"Yes","No"),"Error") -> Error | P43: =VLOOKUP(J43,RHTABLE,12,FALSE) -> #N/A
G44: =IF(H43<>"Error",G43+1,IF(G43>G42,1,0)) -> 15 | H44: =IFERROR(VLOOKUP(INDEX(CXArray,MATCH(G44,CXNumber,0),MATCH($C$1,CXState,0)),Top40Unique,4,FALSE),"Error") -> 0 | I44: =IFERROR(VLOOKUP(INDEX(CXArray,MATCH(G44,CXNumber,0),MATCH($C$1,CXState,0)),Top40Unique,6,FALSE),1) -> 1 | J44: =IFERROR(VLOOKUP(INDEX(CXArray,MATCH(G44,CXNumber,0),MATCH($C$1,CXState,0)),Top40Unique,3,FALSE),1) -> 0 | K44: =IFERROR(IF(OR(VLOOKUP(J44,RHTABLE,8,FALSE)="Yes",VLOOKUP(J44,RHTABLE,8,FALSE)="Yes-Agreement"),"Yes","No"),"Error") -> Error | L44: =IFERROR(IF(OR(VLOOKUP(J44,RHTABLE,9,FALSE)="Yes",VLOOKUP(J44,RHTABLE,9,FALSE)="Yes-Agreement"),"Yes","No"),"Error") -> Error | M44: =IFERROR(IF(OR(VLOOKUP(J44,RHTABLE,10,FALSE)="Yes",VLOOKUP(J44,RHTABLE,10,FALSE)="Yes-Agreement"),"Yes","No"),"Error") -> Error | N44: =IFERROR(IF(OR(VLOOKUP(J44,RHTABLE,11,FALSE)="Yes",VLOOKUP(J44,RHTABLE,11,FALSE)="Yes-Agreement"),"Yes","No"),"Error") -> Error | O44: =IFERROR(IF(OR(VLOOKUP(J44,RHTABLE,12,FALSE)="Yes",VLOOKUP(J44,RHTABLE,12,FALSE)="Yes-Agreement"),"Yes","No"),"Error") -> Error | P44: =VLOOKUP(J44,RHTABLE,12,FALSE) -> #N/A
P45: =VLOOKUP(J45,RHTABLE,12,FALSE) -> #N/A
H46: =IF(H1="Click Here","",H1&" "&"Carriers") | P46: =VLOOKUP(J46,RHTABLE,12,FALSE) -> #N/A
G47: 1 | H47: =IFERROR(VLOOKUP(INDEX(CXArray,MATCH(G47,CXNumber,0),MATCH($H$1,CXState,0)),Top40Unique,4,FALSE),"Error") -> Error | I47: =IFERROR(VLOOKUP(INDEX(CXArray,MATCH(G47,CXNumber,0),MATCH($H$1,CXState,0)),Top40Unique,6,FALSE),1) -> 1 | J47: =IFERROR(VLOOKUP(INDEX(CXArray,MATCH(G47,CXNumber,0),MATCH($H$1,CXState,0)),Top40Unique,3,FALSE),1) -> 1 | K47: =IFERROR(IF(OR(VLOOKUP(J47,RHTABLE,8,FALSE)="Yes",VLOOKUP(J47,RHTABLE,8,FALSE)="Yes-Agreement"),"Yes","No"),"Error") -> Error | L47: =IFERROR(IF(OR(VLOOKUP(J47,RHTABLE,9,FALSE)="Yes",VLOOKUP(J47,RHTABLE,9,FALSE)="Yes-Agreement"),"Yes","No"),"Error") -> Error | M47: =IFERROR(IF(OR(VLOOKUP(J47,RHTABLE,10,FALSE)="Yes",VLOOKUP(J47,RHTABLE,10,FALSE)="Yes-Agreement"),"Yes","No"),"Error") -> Error | N47: =IFERROR(IF(OR(VLOOKUP(J47,RHTABLE,11,FALSE)="Yes",VLOOKUP(J47,RHTABLE,11,FALSE)="Yes-Agreement"),"Yes","No"),"Error") -> Error | O47: =IFERROR(IF(OR(VLOOKUP(J47,RHTABLE,12,FALSE)="Yes",VLOOKUP(J47,RHTABLE,12,FALSE)="Yes-Agreement"),"Yes","No"),"Error") -> Error | P47: =VLOOKUP(J47,RHTABLE,12,FALSE) -> #N/A
G48: 2 | H48: =IFERROR(VLOOKUP(INDEX(CXArray,MATCH(G48,CXNumber,0),MATCH($H$1,CXState,0)),Top40Unique,4,FALSE),"Error") -> Error | I48: =IFERROR(VLOOKUP(INDEX(CXArray,MATCH(G48,CXNumber,0),MATCH($H$1,CXState,0)),Top40Unique,6,FALSE),1) -> 1 | J48: =IFERROR(VLOOKUP(INDEX(CXArray,MATCH(G48,CXNumber,0),MATCH($H$1,CXState,0)),Top40Unique,3,FALSE),1) -> 1 | K48: =IFERROR(IF(OR(VLOOKUP(J48,RHTABLE,8,FALSE)="Yes",VLOOKUP(J48,RHTABLE,8,FALSE)="Yes-Agreement"),"Yes","No"),"Error") -> Error | L48: =IFERROR(IF(OR(VLOOKUP(J48,RHTABLE,9,FALSE)="Yes",VLOOKUP(J48,RHTABLE,9,FALSE)="Yes-Agreement"),"Yes","No"),"Error") -> Error | M48: =IFERROR(IF(OR(VLOOKUP(J48,RHTABLE,10,FALSE)="Yes",VLOOKUP(J48,RHTABLE,10,FALSE)="Yes-Agreement"),"Yes","No"),"Error") -> Error | N48: =IFERROR(IF(OR(VLOOKUP(J48,RHTABLE,11,FALSE)="Yes",VLOOKUP(J48,RHTABLE,11,FALSE)="Yes-Agreement"),"Yes","No"),"Error") -> Error | O48: =IFERROR(IF(OR(VLOOKUP(J48,RHTABLE,12,FALSE)="Yes",VLOOKUP(J48,RHTABLE,12,FALSE)="Yes-Agreement"),"Yes","No"),"Error") -> Error | P48: =VLOOKUP(J48,RHTABLE,12,FALSE) -> #N/A
...

Sheet Additional Carriers
A1: AdvancedMD has identified the top carriers for your state. If you have additional Professional Carriers or any Institutional Carriers please list them in the two sections below. Your office key will include the top carriers and any carriers you list here. If you have more carriers than the available spots on this page please send a separate list of those carriers.
A2: Professional Carriers | C2: (add institutional carriers below)
A4: Internal Use | B4: Client Information | K4: Implementation Use
A5: Setup EDI Agreements | B5: Credentialing Status | C5: Bill as Group or Provider | D5: Group/Provider IDs | E5: Top Carrier | H5: Carrier Name* | J5: Payer ID* | K5: CPID | L5: Connections Available | Q5: Agreement(s) Required
I6: Carrier Address* | L6: Claims | M6: Remittance | N6: Eligibility | O6: Claim Status | P6: Attachments
K7: =IF(J7="","",VLOOKUP(J7,'Relay 01.02.2024'!N:O,2,FALSE)) | L7: =IFERROR(IF(OR(VLOOKUP(K7,RHTABLE,8,FALSE)="Yes",VLOOKUP(K7,RHTABLE,8,FALSE)="Yes-Agreement"),"Yes","No"),"") | M7: =IFERROR(IF(OR(VLOOKUP(K7,RHTABLE,9,FALSE)="Yes",VLOOKUP(K7,RHTABLE,9,FALSE)="Yes-Agreement"),"Yes","No"),"") | N7: =IFERROR(IF(OR(VLOOKUP(K7,RHTABLE,10,FALSE)="Yes",VLOOKUP(K7,RHTABLE,10,FALSE)="Yes-Agreement"),"Yes","No"),"") | O7: =IFERROR(IF(OR(VLOOKUP(K7,RHTABLE,11,FALSE)="Yes",VLOOKUP(K7,RHTABLE,11,FALSE)="Yes-Agreement"),"Yes","No"),"") | P7: =IFERROR(IF(OR(VLOOKUP(K7,RHTABLE,12,FALSE)="Yes",VLOOKUP(K7,RHTABLE,12,FALSE)="Yes-Agreement"),"Yes","No"),"") | Q7: =IFERROR(VLOOKUP(K7,RHTABLE,13,FALSE),"")
K8: =IF(J8="","",VLOOKUP(J8,'Relay 01.02.2024'!N:O,2,FALSE)) | L8: =IFERROR(IF(OR(VLOOKUP(K8,RHTABLE,8,FALSE)="Yes",VLOOKUP(K8,RHTABLE,8,FALSE)="Yes-Agreement"),"Yes","No"),"") | M8: =IFERROR(IF(OR(VLOOKUP(K8,RHTABLE,9,FALSE)="Yes",VLOOKUP(K8,RHTABLE,9,FALSE)="Yes-Agreement"),"Yes","No"),"") | N8: =IFERROR(IF(OR(VLOOKUP(K8,RHTABLE,10,FALSE)="Yes",VLOOKUP(K8,RHTABLE,10,FALSE)="Yes-Agreement"),"Yes","No"),"") | O8: =IFERROR(IF(OR(VLOOKUP(K8,RHTABLE,11,FALSE)="Yes",VLOOKUP(K8,RHTABLE,11,FALSE)="Yes-Agreement"),"Yes","No"),"") | P8: =IFERROR(IF(OR(VLOOKUP(K8,RHTABLE,12,FALSE)="Yes",VLOOKUP(K8,RHTABLE,12,FALSE)="Yes-Agreement"),"Yes","No"),"") | Q8: =IFERROR(VLOOKUP(K8,RHTABLE,13,FALSE),"")
K9: =IF(J9="","",VLOOKUP(J9,'Relay 01.02.2024'!N:O,2,FALSE)) | L9: =IFERROR(IF(OR(VLOOKUP(K9,RHTABLE,8,FALSE)="Yes",VLOOKUP(K9,RHTABLE,8,FALSE)="Yes-Agreement"),"Yes","No"),"") | M9: =IFERROR(IF(OR(VLOOKUP(K9,RHTABLE,9,FALSE)="Yes",VLOOKUP(K9,RHTABLE,9,FALSE)="Yes-Agreement"),"Yes","No"),"") | N9: =IFERROR(IF(OR(VLOOKUP(K9,RHTABLE,10,FALSE)="Yes",VLOOKUP(K9,RHTABLE,10,FALSE)="Yes-Agreement"),"Yes","No"),"") | O9: =IFERROR(IF(OR(VLOOKUP(K9,RHTABLE,11,FALSE)="Yes",VLOOKUP(K9,RHTABLE,11,FALSE)="Yes-Agreement"),"Yes","No"),"") | P9: =IFERROR(IF(OR(VLOOKUP(K9,RHTABLE,12,FALSE)="Yes",VLOOKUP(K9,RHTABLE,12,FALSE)="Yes-Agreement"),"Yes","No"),"") | Q9: =IFERROR(VLOOKUP(K9,RHTABLE,13,FALSE),"")
K10: =IF(J10="","",VLOOKUP(J10,'Relay 01.02.2024'!N:O,2,FALSE)) | L10: =IFERROR(IF(OR(VLOOKUP(K10,RHTABLE,8,FALSE)="Yes",VLOOKUP(K10,RHTABLE,8,FALSE)="Yes-Agreement"),"Yes","No"),"") | M10: =IFERROR(IF(OR(VLOOKUP(K10,RHTABLE,9,FALSE)="Yes",VLOOKUP(K10,RHTABLE,9,FALSE)="Yes-Agreement"),"Yes","No"),"") | N10: =IFERROR(IF(OR(VLOOKUP(K10,RHTABLE,10,FALSE)="Yes",VLOOKUP(K10,RHTABLE,10,FALSE)="Yes-Agreement"),"Yes","No"),"") | O10: =IFERROR(IF(OR(VLOOKUP(K10,RHTABLE,11,FALSE)="Yes",VLOOKUP(K10,RHTABLE,11,FALSE)="Yes-Agreement"),"Yes","No"),"") | P10: =IFERROR(IF(OR(VLOOKUP(K10,RHTABLE,12,FALSE)="Yes",VLOOKUP(K10,RHTABLE,12,FALSE)="Yes-Agreement"),"Yes","No"),"") | Q10: =IFERROR(VLOOKUP(K10,RHTABLE,13,FALSE),"")
K11: =IF(J11="","",VLOOKUP(J11,'Relay 01.02.2024'!N:O,2,FALSE)) | L11: =IFERROR(IF(OR(VLOOKUP(K11,RHTABLE,8,FALSE)="Yes",VLOOKUP(K11,RHTABLE,8,FALSE)="Yes-Agreement"),"Yes","No"),"") | M11: =IFERROR(IF(OR(VLOOKUP(K11,RHTABLE,9,FALSE)="Yes",VLOOKUP(K11,RHTABLE,9,FALSE)="Yes-Agreement"),"Yes","No"),"") | N11: =IFERROR(IF(OR(VLOOKUP(K11,RHTABLE,10,FALSE)="Yes",VLOOKUP(K11,RHTABLE,10,FALSE)="Yes-Agreement"),"Yes","No"),"") | O11: =IFERROR(IF(OR(VLOOKUP(K11,RHTABLE,11,FALSE)="Yes",VLOOKUP(K11,RHTABLE,11,FALSE)="Yes-Agreement"),"Yes","No"),"") | P11: =IFERROR(IF(OR(VLOOKUP(K11,RHTABLE,12,FALSE)="Yes",VLOOKUP(K11,RHTABLE,12,FALSE)="Yes-Agreement"),"Yes","No"),"") | Q11: =IFERROR(VLOOKUP(K11,RHTABLE,13,FALSE),"")
K12: =IF(J12="","",VLOOKUP(J12,'Relay 01.02.2024'!N:O,2,FALSE)) | L12: =IFERROR(IF(OR(VLOOKUP(K12,RHTABLE,8,FALSE)="Yes",VLOOKUP(K12,RHTABLE,8,FALSE)="Yes-Agreement"),"Yes","No"),"") | M12: =IFERROR(IF(OR(VLOOKUP(K12,RHTABLE,9,FALSE)="Yes",VLOOKUP(K12,RHTABLE,9,FALSE)="Yes-Agreement"),"Yes","No"),"") | N12: =IFERROR(IF(OR(VLOOKUP(K12,RHTABLE,10,FALSE)="Yes",VLOOKUP(K12,RHTABLE,10,FALSE)="Yes-Agreement"),"Yes","No"),"") | O12: =IFERROR(IF(OR(VLOOKUP(K12,RHTABLE,11,FALSE)="Yes",VLOOKUP(K12,RHTABLE,11,FALSE)="Yes-Agreement"),"Yes","No"),"") | P12: =IFERROR(IF(OR(VLOOKUP(K12,RHTABLE,12,FALSE)="Yes",VLOOKUP(K12,RHTABLE,12,FALSE)="Yes-Agreement"),"Yes","No"),"") | Q12: =IFERROR(VLOOKUP(K12,RHTABLE,13,FALSE),"")
K13: =IF(J13="","",VLOOKUP(J13,'Relay 01.02.2024'!N:O,2,FALSE)) | L13: =IFERROR(IF(OR(VLOOKUP(K13,RHTABLE,8,FALSE)="Yes",VLOOKUP(K13,RHTABLE,8,FALSE)="Yes-Agreement"),"Yes","No"),"") | M13: =IFERROR(IF(OR(VLOOKUP(K13,RHTABLE,9,FALSE)="Yes",VLOOKUP(K13,RHTABLE,9,FALSE)="Yes-Agreement"),"Yes","No"),"") | N13: =IFERROR(IF(OR(VLOOKUP(K13,RHTABLE,10,FALSE)="Yes",VLOOKUP(K13,RHTABLE,10,FALSE)="Yes-Agreement"),"Yes","No"),"") | O13: =IFERROR(IF(OR(VLOOKUP(K13,RHTABLE,11,FALSE)="Yes",VLOOKUP(K13,RHTABLE,11,FALSE)="Yes-Agreement"),"Yes","No"),"") | P13: =IFERROR(IF(OR(VLOOKUP(K13,RHTABLE,12,FALSE)="Yes",VLOOKUP(K13,RHTABLE,12,FALSE)="Yes-Agreement"),"Yes","No"),"") | Q13: =IFERROR(VLOOKUP(K13,RHTABLE,13,FALSE),"")
K14: =IF(J14="","",VLOOKUP(J14,'Relay 01.02.2024'!N:O,2,FALSE)) | L14: =IFERROR(IF(OR(VLOOKUP(K14,RHTABLE,8,FALSE)="Yes",VLOOKUP(K14,RHTABLE,8,FALSE)="Yes-Agreement"),"Yes","No"),"") | M14: =IFERROR(IF(OR(VLOOKUP(K14,RHTABLE,9,FALSE)="Yes",VLOOKUP(K14,RHTABLE,9,FALSE)="Yes-Agreement"),"Yes","No"),"") | N14: =IFERROR(IF(OR(VLOOKUP(K14,RHTABLE,10,FALSE)="Yes",VLOOKUP(K14,RHTABLE,10,FALSE)="Yes-Agreement"),"Yes","No"),"") | O14: =IFERROR(IF(OR(VLOOKUP(K14,RHTABLE,11,FALSE)="Yes",VLOOKUP(K14,RHTABLE,11,FALSE)="Yes-Agreement"),"Yes","No"),"") | P14: =IFERROR(IF(OR(VLOOKUP(K14,RHTABLE,12,FALSE)="Yes",VLOOKUP(K14,RHTABLE,12,FALSE)="Yes-Agreement"),"Yes","No"),"") | Q14: =IFERROR(VLOOKUP(K14,RHTABLE,13,FALSE),"")
K15: =IF(J15="","",VLOOKUP(J15,'Relay 01.02.2024'!N:O,2,FALSE)) | L15: =IFERROR(IF(OR(VLOOKUP(K15,RHTABLE,8,FALSE)="Yes",VLOOKUP(K15,RHTABLE,8,FALSE)="Yes-Agreement"),"Yes","No"),"") | M15: =IFERROR(IF(OR(VLOOKUP(K15,RHTABLE,9,FALSE)="Yes",VLOOKUP(K15,RHTABLE,9,FALSE)="Yes-Agreement"),"Yes","No"),"") | N15: =IFERROR(IF(OR(VLOOKUP(K15,RHTABLE,10,FALSE)="Yes",VLOOKUP(K15,RHTABLE,10,FALSE)="Yes-Agreement"),"Yes","No"),"") | O15: =IFERROR(IF(OR(VLOOKUP(K15,RHTABLE,11,FALSE)="Yes",VLOOKUP(K15,RHTABLE,11,FALSE)="Yes-Agreement"),"Yes","No"),"") | P15: =IFERROR(IF(OR(VLOOKUP(K15,RHTABLE,12,FALSE)="Yes",VLOOKUP(K15,RHTABLE,12,FALSE)="Yes-Agreement"),"Yes","No"),"") | Q15: =IFERROR(VLOOKUP(K15,RHTABLE,13,FALSE),"")
K16: =IF(J16="","",VLOOKUP(J16,'Relay 01.02.2024'!N:O,2,FALSE)) | L16: =IFERROR(IF(OR(VLOOKUP(K16,RHTABLE,8,FALSE)="Yes",VLOOKUP(K16,RHTABLE,8,FALSE)="Yes-Agreement"),"Yes","No"),"") | M16: =IFERROR(IF(OR(VLOOKUP(K16,RHTABLE,9,FALSE)="Yes",VLOOKUP(K16,RHTABLE,9,FALSE)="Yes-Agreement"),"Yes","No"),"") | N16: =IFERROR(IF(OR(VLOOKUP(K16,RHTABLE,10,FALSE)="Yes",VLOOKUP(K16,RHTABLE,10,FALSE)="Yes-Agreement"),"Yes","No"),"") | O16: =IFERROR(IF(OR(VLOOKUP(K16,RHTABLE,11,FALSE)="Yes",VLOOKUP(K16,RHTABLE,11,FALSE)="Yes-Agreement"),"Yes","No"),"") | P16: =IFERROR(IF(OR(VLOOKUP(K16,RHTABLE,12,FALSE)="Yes",VLOOKUP(K16,RHTABLE,12,FALSE)="Yes-Agreement"),"Yes","No"),"") | Q16: =IFERROR(VLOOKUP(K16,RHTABLE,13,FALSE),"")
K17: =IF(J17="","",VLOOKUP(J17,'Relay 01.02.2024'!N:O,2,FALSE)) | L17: =IFERROR(IF(OR(VLOOKUP(K17,RHTABLE,8,FALSE)="Yes",VLOOKUP(K17,RHTABLE,8,FALSE)="Yes-Agreement"),"Yes","No"),"") | M17: =IFERROR(IF(OR(VLOOKUP(K17,RHTABLE,9,FALSE)="Yes",VLOOKUP(K17,RHTABLE,9,FALSE)="Yes-Agreement"),"Yes","No"),"") | N17: =IFERROR(IF(OR(VLOOKUP(K17,RHTABLE,10,FALSE)="Yes",VLOOKUP(K17,RHTABLE,10,FALSE)="Yes-Agreement"),"Yes","No"),"") | O17: =IFERROR(IF(OR(VLOOKUP(K17,RHTABLE,11,FALSE)="Yes",VLOOKUP(K17,RHTABLE,11,FALSE)="Yes-Agreement"),"Yes","No"),"") | P17: =IFERROR(IF(OR(VLOOKUP(K17,RHTABLE,12,FALSE)="Yes",VLOOKUP(K17,RHTABLE,12,FALSE)="Yes-Agreement"),"Yes","No"),"") | Q17: =IFERROR(VLOOKUP(K17,RHTABLE,13,FALSE),"")
K18: =IF(J18="","",VLOOKUP(J18,'Relay 01.02.2024'!N:O,2,FALSE)) | L18: =IFERROR(IF(OR(VLOOKUP(K18,RHTABLE,8,FALSE)="Yes",VLOOKUP(K18,RHTABLE,8,FALSE)="Yes-Agreement"),"Yes","No"),"") | M18: =IFERROR(IF(OR(VLOOKUP(K18,RHTABLE,9,FALSE)="Yes",VLOOKUP(K18,RHTABLE,9,FALSE)="Yes-Agreement"),"Yes","No"),"") | N18: =IFERROR(IF(OR(VLOOKUP(K18,RHTABLE,10,FALSE)="Yes",VLOOKUP(K18,RHTABLE,10,FALSE)="Yes-Agreement"),"Yes","No"),"") | O18: =IFERROR(IF(OR(VLOOKUP(K18,RHTABLE,11,FALSE)="Yes",VLOOKUP(K18,RHTABLE,11,FALSE)="Yes-Agreement"),"Yes","No"),"") | P18: =IFERROR(IF(OR(VLOOKUP(K18,RHTABLE,12,FALSE)="Yes",VLOOKUP(K18,RHTABLE,12,FALSE)="Yes-Agreement"),"Yes","No"),"") | Q18: =IFERROR(VLOOKUP(K18,RHTABLE,13,FALSE),"")
... K26: =IF(J26="","",VLOOKUP(J26,'Relay 01.02.2024'!N:O,2,FALSE)) | L26: =IFERROR(IF(OR(VLOOKUP(K26,RHTABLE,8,FALSE)="Yes",VLOOKUP(K26,RHTABLE,8,FALSE)="Yes-Agreement"),"Yes","No"),"") | M26: =IFERROR(IF(OR(VLOOKUP(K26,RHTABLE,9,FALSE)="Yes",VLOOKUP(K26,RHTABLE,9,FALSE)="Yes-Agreement"),"Yes","No"),"") | N26: =IFERROR(IF(OR(VLOOKUP(K26,RHTABLE,10,FALSE)="Yes",VLOOKUP(K26,RHTABLE,10,FALSE)="Yes-Agreement"),"Yes","No"),"") | O26: =IFERROR(IF(OR(VLOOKUP(K26,RHTABLE,11,FALSE)="Yes",VLOOKUP(K26,RHTABLE,11,FALSE)="Yes-Agreement"),"Yes","No"),"") | P26: =IFERROR(IF(OR(VLOOKUP(K26,RHTABLE,12,FALSE)="Yes",VLOOKUP(K26,RHTABLE,12,FALSE)="Yes-Agreement"),"Yes","No"),"") | Q26: =IFERROR(VLOOKUP(K26,RHTABLE,13,FALSE),"")
G27: 1 | K27: =IF(J27="","",VLOOKUP(J27,'Relay 01.02.2024'!N:O,2,FALSE)) | L27: =IFERROR(IF(OR(VLOOKUP(K27,RHTABLE,8,FALSE)="Yes",VLOOKUP(K27,RHTABLE,8,FALSE)="Yes-Agreement"),"Yes","No"),"") | M27: =IFERROR(IF(OR(VLOOKUP(K27,RHTABLE,9,FALSE)="Yes",VLOOKUP(K27,RHTABLE,9,FALSE)="Yes-Agreement"),"Yes","No"),"") | N27: =IFERROR(IF(OR(VLOOKUP(K27,RHTABLE,10,FALSE)="Yes",VLOOKUP(K27,RHTABLE,10,FALSE)="Yes-Agreement"),"Yes","No"),"") | O27: =IFERROR(IF(OR(VLOOKUP(K27,RHTABLE,11,FALSE)="Yes",VLOOKUP(K27,RHTABLE,11,FALSE)="Yes-Agreement"),"Yes","No"),"") | P27: =IFERROR(IF(OR(VLOOKUP(K27,RHTABLE,12,FALSE)="Yes",VLOOKUP(K27,RHTABLE,12,FALSE)="Yes-Agreement"),"Yes","No"),"") | Q27: =IFERROR(VLOOKUP(K27,RHTABLE,13,FALSE),"")
G28: 13 | J28: =IFERROR(VLOOKUP(INDEX(CXArray,MATCH(G28,CXNumber,0),MATCH($B$2,CXState,0)),Top40Unique,6,FALSE),1) -> 1 | K28: =IFERROR(VLOOKUP(INDEX(CXArray,MATCH(G28,CXNumber,0),MATCH($B$2,CXState,0)),Top40Unique,3,FALSE),1) -> 1 | L28: =IFERROR(IF(OR(VLOOKUP(K28,RHTABLE,8,FALSE)="Yes",VLOOKUP(K28,RHTABLE,8,FALSE)="Yes-Agreement"),"Yes","No"),"Error") -> Error | M28: =IFERROR(IF(OR(VLOOKUP(K28,RHTABLE,9,FALSE)="Yes",VLOOKUP(K28,RHTABLE,9,FALSE)="Yes-Agreement"),"Yes","No"),"Error") -> Error | N28: =IFERROR(IF(OR(VLOOKUP(K28,RHTABLE,10,FALSE)="Yes",VLOOKUP(K28,RHTABLE,10,FALSE)="Yes-Agreement"),"Yes","No"),"Error") -> Error | O28: =IFERROR(IF(OR(VLOOKUP(K28,RHTABLE,11,FALSE)="Yes",VLOOKUP(K28,RHTABLE,11,FALSE)="Yes-Agreement"),"Yes","No"),"Error") -> Error
G29: 19 | H29: =IFERROR(VLOOKUP(INDEX(CXArray,MATCH(G29,CXNumber,0),MATCH($B$2,CXState,0)),Top40Unique,4,FALSE),"Error") -> Error | J29: =IFERROR(VLOOKUP(INDEX(CXArray,MATCH(G29,CXNumber,0),MATCH($B$2,CXState,0)),Top40Unique,6,FALSE),1) -> 1 | K29: =IFERROR(VLOOKUP(INDEX(CXArray,MATCH(G29,CXNumber,0),MATCH($B$2,CXState,0)),Top40Unique,3,FALSE),1) -> 1 | L29: =IFERROR(IF(OR(VLOOKUP(K29,RHTABLE,8,FALSE)="Yes",VLOOKUP(K29,RHTABLE,8,FALSE)="Yes-Agreement"),"Yes","No"),"Error") -> Error | M29: =IFERROR(IF(OR(VLOOKUP(K29,RHTABLE,9,FALSE)="Yes",VLOOKUP(K29,RHTABLE,9,FALSE)="Yes-Agreement"),"Yes","No"),"Error") -> Error | N29: =IFERROR(IF(OR(VLOOKUP(K29,RHTABLE,10,FALSE)="Yes",VLOOKUP(K29,RHTABLE,10,FALSE)="Yes-Agreement"),"Yes","No"),"Error") -> Error | O29: =IFERROR(IF(OR(VLOOKUP(K29,RHTABLE,11,FALSE)="Yes",VLOOKUP(K29,RHTABLE,11,FALSE)="Yes-Agreement"),"Yes","No"),"Error") -> Error
A30: Institutional Carriers
A31: Internal Use | B31: Client Information | K31: Implementation Use
A32: Setup EDI Agreements | B32: Credentialing Status | C32: Bill as Group or Provider | D32: Group/Provider IDs | E32: Top Carrier | H32: Carrier Name* | J32: Payer ID* | K32: CPID | L32: Connections Available | Q32: Agreement(s) Required
I33: Carrier Address* | L33: Claims | M33: Remittance | N33: Eligibility | O33: Claim Status | P33: Attachments
K34: =IF(J34="","",VLOOKUP(J34,'Relay INST 10.12.2023'!N:O,2,FALSE)) | L34: =IFERROR(IF(OR(VLOOKUP(K34,RHINSTTable,8,FALSE)="Yes",VLOOKUP(K34,RHINSTTable,8,FALSE)="Yes-Agreement"),"Yes","No"),"") | M34: =IFERROR(IF(OR(VLOOKUP(K34,RHINSTTable,9,FALSE)="Yes",VLOOKUP(K34,RHINSTTable,9,FALSE)="Yes-Agreement"),"Yes","No"),"") | N34: =IFERROR(IF(OR(VLOOKUP(K34,RHINSTTable,10,FALSE)="Yes",VLOOKUP(K34,RHINSTTable,10,FALSE)="Yes-Agreement"),"Yes","No"),"") | O34: =IFERROR(IF(OR(VLOOKUP(K34,RHINSTTable,11,FALSE)="Yes",VLOOKUP(K34,RHINSTTable,11,FALSE)="Yes-Agreement"),"Yes","No"),"") | P34: =IFERROR(IF(OR(VLOOKUP(K34,RHINSTTable,12,FALSE)="Yes",VLOOKUP(K34,RHINSTTable,12,FALSE)="Yes-Agreement"),"Yes","No"),"") | Q34: =IFERROR(VLOOKUP(K34,RHINSTTable,13,FALSE),"")
K35: =IF(J35="","",VLOOKUP(J35,'Relay INST 10.12.2023'!N:O,2,FALSE)) | L35: =IFERROR(IF(OR(VLOOKUP(K35,RHINSTTable,8,FALSE)="Yes",VLOOKUP(K35,RHINSTTable,8,FALSE)="Yes-Agreement"),"Yes","No"),"") | M35: =IFERROR(IF(OR(VLOOKUP(K35,RHINSTTable,9,FALSE)="Yes",VLOOKUP(K35,RHINSTTable,9,FALSE)="Yes-Agreement"),"Yes","No"),"") | N35: =IFERROR(IF(OR(VLOOKUP(K35,RHINSTTable,10,FALSE)="Yes",VLOOKUP(K35,RHINSTTable,10,FALSE)="Yes-Agreement"),"Yes","No"),"") | O35: =IFERROR(IF(OR(VLOOKUP(K35,RHINSTTable,11,FALSE)="Yes",VLOOKUP(K35,RHINSTTable,11,FALSE)="Yes-Agreement"),"Yes","No"),"") | P35: =IFERROR(IF(OR(VLOOKUP(K35,RHINSTTable,12,FALSE)="Yes",VLOOKUP(K35,RHINSTTable,12,FALSE)="Yes-Agreement"),"Yes","No"),"") | Q35: =IFERROR(VLOOKUP(K35,RHINSTTable,13,FALSE),"")
K36: =IF(J36="","",VLOOKUP(J36,'Relay INST 10.12.2023'!A:C,2,FALSE)) | L36: =IFERROR(IF(OR(VLOOKUP(K36,RHINSTTable,8,FALSE)="Yes",VLOOKUP(K36,RHINSTTable,8,FALSE)="Yes-Agreement"),"Yes","No"),"") | M36: =IFERROR(IF(OR(VLOOKUP(K36,RHINSTTable,9,FALSE)="Yes",VLOOKUP(K36,RHINSTTable,9,FALSE)="Yes-Agreement"),"Yes","No"),"") | N36: =IFERROR(IF(OR(VLOOKUP(K36,RHINSTTable,10,FALSE)="Yes",VLOOKUP(K36,RHINSTTable,10,FALSE)="Yes-Agreement"),"Yes","No"),"") | O36: =IFERROR(IF(OR(VLOOKUP(K36,RHINSTTable,11,FALSE)="Yes",VLOOKUP(K36,RHINSTTable,11,FALSE)="Yes-Agreement"),"Yes","No"),"") | P36: =IFERROR(IF(OR(VLOOKUP(K36,RHINSTTable,12,FALSE)="Yes",VLOOKUP(K36,RHINSTTable,12,FALSE)="Yes-Agreement"),"Yes","No"),"") | Q36: =IFERROR(VLOOKUP(K36,RHINSTTable,13,FALSE),"")
K37: =IF(J37="","",VLOOKUP(J37,'Relay INST 10.12.2023'!A:C,2,FALSE)) | L37: =IFERROR(IF(OR(VLOOKUP(K37,RHINSTTable,8,FALSE)="Yes",VLOOKUP(K37,RHINSTTable,8,FALSE)="Yes-Agreement"),"Yes","No"),"") | M37: =IFERROR(IF(OR(VLOOKUP(K37,RHINSTTable,9,FALSE)="Yes",VLOOKUP(K37,RHINSTTable,9,FALSE)="Yes-Agreement"),"Yes","No"),"") | N37: =IFERROR(IF(OR(VLOOKUP(K37,RHINSTTable,10,FALSE)="Yes",VLOOKUP(K37,RHINSTTable,10,FALSE)="Yes-Agreement"),"Yes","No"),"") | O37: =IFERROR(IF(OR(VLOOKUP(K37,RHINSTTable,11,FALSE)="Yes",VLOOKUP(K37,RHINSTTable,11,FALSE)="Yes-Agreement"),"Yes","No"),"") | P37: =IFERROR(IF(OR(VLOOKUP(K37,RHINSTTable,12,FALSE)="Yes",VLOOKUP(K37,RHINSTTable,12,FALSE)="Yes-Agreement"),"Yes","No"),"") | Q37: =IFERROR(VLOOKUP(K37,RHINSTTable,13,FALSE),"")
K38: =IF(J38="","",VLOOKUP(J38,'Relay INST 10.12.2023'!A:C,2,FALSE)) | L38: =IFERROR(IF(OR(VLOOKUP(K38,RHINSTTable,8,FALSE)="Yes",VLOOKUP(K38,RHINSTTable,8,FALSE)="Yes-Agreement"),"Yes","No"),"") | M38: =IFERROR(IF(OR(VLOOKUP(K38,RHINSTTable,9,FALSE)="Yes",VLOOKUP(K38,RHINSTTable,9,FALSE)="Yes-Agreement"),"Yes","No"),"") | N38: =IFERROR(IF(OR(VLOOKUP(K38,RHINSTTable,10,FALSE)="Yes",VLOOKUP(K38,RHINSTTable,10,FALSE)="Yes-Agreement"),"Yes","No"),"") | O38: =IFERROR(IF(OR(VLOOKUP(K38,RHINSTTable,11,FALSE)="Yes",VLOOKUP(K38,RHINSTTable,11,FALSE)="Yes-Agreement"),"Yes","No"),"") | P38: =IFERROR(IF(OR(VLOOKUP(K38,RHINSTTable,12,FALSE)="Yes",VLOOKUP(K38,RHINSTTable,12,FALSE)="Yes-Agreement"),"Yes","No"),"") | Q38: =IFERROR(VLOOKUP(K38,RHINSTTable,13,FALSE),"")
K39: =IF(J39="","",VLOOKUP(J39,'Relay INST 10.12.2023'!A:C,2,FALSE)) | L39: =IFERROR(IF(OR(VLOOKUP(K39,RHINSTTable,8,FALSE)="Yes",VLOOKUP(K39,RHINSTTable,8,FALSE)="Yes-Agreement"),"Yes","No"),"") | M39: =IFERROR(IF(OR(VLOOKUP(K39,RHINSTTable,9,FALSE)="Yes",VLOOKUP(K39,RHINSTTable,9,FALSE)="Yes-Agreement"),"Yes","No"),"") | N39: =IFERROR(IF(OR(VLOOKUP(K39,RHINSTTable,10,FALSE)="Yes",VLOOKUP(K39,RHINSTTable,10,FALSE)="Yes-Agreement"),"Yes","No"),"") | O39: =IFERROR(IF(OR(VLOOKUP(K39,RHINSTTable,11,FALSE)="Yes",VLOOKUP(K39,RHINSTTable,11,FALSE)="Yes-Agreement"),"Yes","No"),"") | P39: =IFERROR(IF(OR(VLOOKUP(K39,RHINSTTable,12,FALSE)="Yes",VLOOKUP(K39,RHINSTTable,12,FALSE)="Yes-Agreement"),"Yes","No"),"") | Q39: =IFERROR(VLOOKUP(K39,RHINSTTable,13,FALSE),"")
K40: =IF(J40="","",VLOOKUP(J40,'Relay INST 10.12.2023'!A:C,2,FALSE)) | L40: =IFERROR(IF(OR(VLOOKUP(K40,RHINSTTable,8,FALSE)="Yes",VLOOKUP(K40,RHINSTTable,8,FALSE)="Yes-Agreement"),"Yes","No"),"") | M40: =IFERROR(IF(OR(VLOOKUP(K40,RHINSTTable,9,FALSE)="Yes",VLOOKUP(K40,RHINSTTable,9,FALSE)="Yes-Agreement"),"Yes","No"),"") | N40: =IFERROR(IF(OR(VLOOKUP(K40,RHINSTTable,10,FALSE)="Yes",VLOOKUP(K40,RHINSTTable,10,FALSE)="Yes-Agreement"),"Yes","No"),"") | O40: =IFERROR(IF(OR(VLOOKUP(K40,RHINSTTable,11,FALSE)="Yes",VLOOKUP(K40,RHINSTTable,11,FALSE)="Yes-Agreement"),"Yes","No"),"") | P40: =IFERROR(IF(OR(VLOOKUP(K40,RHINSTTable,12,FALSE)="Yes",VLOOKUP(K40,RHINSTTable,12,FALSE)="Yes-Agreement"),"Yes","No"),"") | Q40: =IFERROR(VLOOKUP(K40,RHINSTTable,13,FALSE),"")
K41: =IF(J41="","",VLOOKUP(J41,'Relay INST 10.12.2023'!A:C,2,FALSE)) | L41: =IFERROR(IF(OR(VLOOKUP(K41,RHINSTTable,8,FALSE)="Yes",VLOOKUP(K41,RHINSTTable,8,FALSE)="Yes-Agreement"),"Yes","No"),"") | M41: =IFERROR(IF(OR(VLOOKUP(K41,RHINSTTable,9,FALSE)="Yes",VLOOKUP(K41,RHINSTTable,9,FALSE)="Yes-Agreement"),"Yes","No"),"") | N41: =IFERROR(IF(OR(VLOOKUP(K41,RHINSTTable,10,FALSE)="Yes",VLOOKUP(K41,RHINSTTable,10,FALSE)="Yes-Agreement"),"Yes","No"),"") | O41: =IFERROR(IF(OR(VLOOKUP(K41,RHINSTTable,11,FALSE)="Yes",VLOOKUP(K41,RHINSTTable,11,FALSE)="Yes-Agreement"),"Yes","No"),"") | P41: =IFERROR(IF(OR(VLOOKUP(K41,RHINSTTable,12,FALSE)="Yes",VLOOKUP(K41,RHINSTTable,12,FALSE)="Yes-Agreement"),"Yes","No"),"") | Q41: =IFERROR(VLOOKUP(K41,RHINSTTable,13,FALSE),"")
K42: =IF(J42="","",VLOOKUP(J42,'Relay INST 10.12.2023'!A:C,2,FALSE)) | L42: =IFERROR(IF(OR(VLOOKUP(K42,RHINSTTable,8,FALSE)="Yes",VLOOKUP(K42,RHINSTTable,8,FALSE)="Yes-Agreement"),"Yes","No"),"") | M42: =IFERROR(IF(OR(VLOOKUP(K42,RHINSTTable,9,FALSE)="Yes",VLOOKUP(K42,RHINSTTable,9,FALSE)="Yes-Agreement"),"Yes","No"),"") | N42: =IFERROR(IF(OR(VLOOKUP(K42,RHINSTTable,10,FALSE)="Yes",VLOOKUP(K42,RHINSTTable,10,FALSE)="Yes-Agreement"),"Yes","No"),"") | O42: =IFERROR(IF(OR(VLOOKUP(K42,RHINSTTable,11,FALSE)="Yes",VLOOKUP(K42,RHINSTTable,11,FALSE)="Yes-Agreement"),"Yes","No"),"") | P42: =IFERROR(IF(OR(VLOOKUP(K42,RHINSTTable,12,FALSE)="Yes",VLOOKUP(K42,RHINSTTable,12,FALSE)="Yes-Agreement"),"Yes","No"),"") | Q42: =IFERROR(VLOOKUP(K42,RHINSTTable,13,FALSE),"")
K43: =IF(J43="","",VLOOKUP(J43,'Relay INST 10.12.2023'!A:C,2,FALSE)) | L43: =IFERROR(IF(OR(VLOOKUP(K43,RHINSTTable,8,FALSE)="Yes",VLOOKUP(K43,RHINSTTable,8,FALSE)="Yes-Agreement"),"Yes","No"),"") | M43: =IFERROR(IF(OR(VLOOKUP(K43,RHINSTTable,9,FALSE)="Yes",VLOOKUP(K43,RHINSTTable,9,FALSE)="Yes-Agreement"),"Yes","No"),"") | N43: =IFERROR(IF(OR(VLOOKUP(K43,RHINSTTable,10,FALSE)="Yes",VLOOKUP(K43,RHINSTTable,10,FALSE)="Yes-Agreement"),"Yes","No"),"") | O43: =IFERROR(IF(OR(VLOOKUP(K43,RHINSTTable,11,FALSE)="Yes",VLOOKUP(K43,RHINSTTable,11,FALSE)="Yes-Agreement"),"Yes","No"),"") | P43: =IFERROR(IF(OR(VLOOKUP(K43,RHINSTTable,12,FALSE)="Yes",VLOOKUP(K43,RHINSTTable,12,FALSE)="Yes-Agreement"),"Yes","No"),"") | Q43: =IFERROR(VLOOKUP(K43,RHINSTTable,13,FALSE),"")
K44: =IF(J44="","",VLOOKUP(J44,'Relay INST 10.12.2023'!A:C,2,FALSE)) | L44: =IFERROR(IF(OR(VLOOKUP(K44,RHINSTTable,8,FALSE)="Yes",VLOOKUP(K44,RHINSTTable,8,FALSE)="Yes-Agreement"),"Yes","No"),"") | M44: =IFERROR(IF(OR(VLOOKUP(K44,RHINSTTable,9,FALSE)="Yes",VLOOKUP(K44,RHINSTTable,9,FALSE)="Yes-Agreement"),"Yes","No"),"") | N44: =IFERROR(IF(OR(VLOOKUP(K44,RHINSTTable,10,FALSE)="Yes",VLOOKUP(K44,RHINSTTable,10,FALSE)="Yes-Agreement"),"Yes","No"),"") | O44: =IFERROR(IF(OR(VLOOKUP(K44,RHINSTTable,11,FALSE)="Yes",VLOOKUP(K44,RHINSTTable,11,FALSE)="Yes-Agreement"),"Yes","No"),"") | P44: =IFERROR(IF(OR(VLOOKUP(K44,RHINSTTable,12,FALSE)="Yes",VLOOKUP(K44,RHINSTTable,12,FALSE)="Yes-Agreement"),"Yes","No"),"") | Q44: =IFERROR(VLOOKUP(K44,RHINSTTable,13,FALSE),"")
K45: =IF(J45="","",VLOOKUP(J45,'Relay INST 10.12.2023'!A:C,2,FALSE)) | L45: =IFERROR(IF(OR(VLOOKUP(K45,RHINSTTable,8,FALSE)="Yes",VLOOKUP(K45,RHINSTTable,8,FALSE)="Yes-Agreement"),"Yes","No"),"") | M45: =IFERROR(IF(OR(VLOOKUP(K45,RHINSTTable,9,FALSE)="Yes",VLOOKUP(K45,RHINSTTable,9,FALSE)="Yes-Agreement"),"Yes","No"),"") | N45: =IFERROR(IF(OR(VLOOKUP(K45,RHINSTTable,10,FALSE)="Yes",VLOOKUP(K45,RHINSTTable,10,FALSE)="Yes-Agreement"),"Yes","No"),"") | O45: =IFERROR(IF(OR(VLOOKUP(K45,RHINSTTable,11,FALSE)="Yes",VLOOKUP(K45,RHINSTTable,11,FALSE)="Yes-Agreement"),"Yes","No"),"") | P45: =IFERROR(IF(OR(VLOOKUP(K45,RHINSTTable,12,FALSE)="Yes",VLOOKUP(K45,RHINSTTable,12,FALSE)="Yes-Agreement"),"Yes","No"),"") | Q45: =IFERROR(VLOOKUP(K45,RHINSTTable,13,FALSE),"")
K46: =IF(J46="","",VLOOKUP(J46,'Relay INST 10.12.2023'!A:C,2,FALSE)) | L46: =IFERROR(IF(OR(VLOOKUP(K46,RHINSTTable,8,FALSE)="Yes",VLOOKUP(K46,RHINSTTable,8,FALSE)="Yes-Agreement"),"Yes","No"),"") | M46: =IFERROR(IF(OR(VLOOKUP(K46,RHINSTTable,9,FALSE)="Yes",VLOOKUP(K46,RHINSTTable,9,FALSE)="Yes-Agreement"),"Yes","No"),"") | N46: =IFERROR(IF(OR(VLOOKUP(K46,RHINSTTable,10,FALSE)="Yes",VLOOKUP(K46,RHINSTTable,10,FALSE)="Yes-Agreement"),"Yes","No"),"") | O46: =IFERROR(IF(OR(VLOOKUP(K46,RHINSTTable,11,FALSE)="Yes",VLOOKUP(K46,RHINSTTable,11,FALSE)="Yes-Agreement"),"Yes","No"),"") | P46: =IFERROR(IF(OR(VLOOKUP(K46,RHINSTTable,12,FALSE)="Yes",VLOOKUP(K46,RHINSTTable,12,FALSE)="Yes-Agreement"),"Yes","No"),"") | Q46: =IFERROR(VLOOKUP(K46,RHINSTTable,13,FALSE),"")
K47: =IF(J47="","",VLOOKUP(J47,'Relay INST 10.12.2023'!A:C,2,FALSE)) | L47: =IFERROR(IF(OR(VLOOKUP(K47,RHINSTTable,8,FALSE)="Yes",VLOOKUP(K47,RHINSTTable,8,FALSE)="Yes-Agreement"),"Yes","No"),"") | M47: =IFERROR(IF(OR(VLOOKUP(K47,RHINSTTable,9,FALSE)="Yes",VLOOKUP(K47,RHINSTTable,9,FALSE)="Yes-Agreement"),"Yes","No"),"") | N47: =IFERROR(IF(OR(VLOOKUP(K47,RHINSTTable,10,FALSE)="Yes",VLOOKUP(K47,RHINSTTable,10,FALSE)="Yes-Agreement"),"Yes","No"),"") | O47: =IFERROR(IF(OR(VLOOKUP(K47,RHINSTTable,11,FALSE)="Yes",VLOOKUP(K47,RHINSTTable,11,FALSE)="Yes-Agreement"),"Yes","No"),"") | P47: =IFERROR(IF(OR(VLOOKUP(K47,RHINSTTable,12,FALSE)="Yes",VLOOKUP(K47,RHINSTTable,12,FALSE)="Yes-Agreement"),"Yes","No"),"") | Q47: =IFERROR(VLOOKUP(K47,RHINSTTable,13,FALSE),"")
... K53: =IF(J53="","",VLOOKUP(J53,'Relay INST 10.12.2023'!A:C,2,FALSE)) | L53: =IFERROR(IF(OR(VLOOKUP(K53,RHINSTTable,8,FALSE)="Yes",VLOOKUP(K53,RHINSTTable,8,FALSE)="Yes-Agreement"),"Yes","No"),"") | M53: =IFERROR(IF(OR(VLOOKUP(K53,RHINSTTable,9,FALSE)="Yes",VLOOKUP(K53,RHINSTTable,9,FALSE)="Yes-Agreement"),"Yes","No"),"") | N53: =IFERROR(IF(OR(VLOOKUP(K53,RHINSTTable,10,FALSE)="Yes",VLOOKUP(K53,RHINSTTable,10,FALSE)="Yes-Agreement"),"Yes","No"),"") | O53: =IFERROR(IF(OR(VLOOKUP(K53,RHINSTTable,11,FALSE)="Yes",VLOOKUP(K53,RHINSTTable,11,FALSE)="Yes-Agreement"),"Yes","No"),"") | P53: =IFERROR(IF(OR(VLOOKUP(K53,RHINSTTable,12,FALSE)="Yes",VLOOKUP(K53,RHINSTTable,12,FALSE)="Yes-Agreement"),"Yes","No"),"") | Q53: =IFERROR(VLOOKUP(K53,RHINSTTable,13,FALSE),"")
...

Sheet Additional Provider
B1: Individual Provider EDI Agreements
B2: If your provider(s) is not attached to a group for billing purposes and requires individual EDI agreements, please complete this section. Otherwise, please proceed to the Provider Profile Setup section.
B4: EDI Agreement Details | F4: Payer Name | G4: CPID or National Payer ID | H4: Payer Specific Provider ID (i.e. PTAN)
B5: EDI Contact Name
B6: EDI Contact Title
B7: Email
B8: Phone
B9: Fax
B10: Authorized Signee Name
B11: Authorized Signee Title
B12: Billing NPI (box 33)
B13: Billing Name
B14: Tax ID
B15: Physical Address
